|SUCCESS| pw148034-148067 [PATCH] [v8,47/47] net/bnxt: tf_ulp: add s
dpdklab at iol.unh.edu
dpdklab at iol.unh.edu
Thu Nov 7 23:25:35 CET 2024
Test-Label: iol-sample-apps-testing
Test-Status: SUCCESS
http://dpdk.org/patch/148067
_Testing PASS_
Submitter: Sriharsha Basavapatna <sriharsha.basavapatna at broadcom.com>
Date: Thursday, November 07 2024 13:52:54
DPDK git baseline: Repo:dpdk
Branch: master
CommitID:64f27886b8bf127cd365a8a3ed5c05852a5ae81d
148034-148067 --> testing pass
Upstream job id: ACVP-FIPS-testing#7830
Test environment and result as below:
+--------------------+----------------------+----------------------+
| Environment | compressdev_zlib_pmd | dpdk_fips_validation |
+====================+======================+======================+
| Ubuntu 22.04 (ARM) | PASS | SKIPPED |
+--------------------+----------------------+----------------------+
| Ubuntu 22.04 | PASS | SKIPPED |
+--------------------+----------------------+----------------------+
| Ubuntu 20.04 | SKIPPED | PASS |
+--------------------+----------------------+----------------------+
Ubuntu 22.04 (ARM)
Kernel: 5.15.0-97-generic
Compiler: gcc gcc (Ubuntu 11.4.0-1ubuntu1~22.04) 11.4.0
Ubuntu 22.04
Kernel: 5.15.0-100-generic
Compiler: gcc gcc (Ubuntu 11.4.0-1ubuntu1~22.04) 11.4.0
Ubuntu 20.04
Kernel: Depends on container host
Compiler: gcc (Ubuntu 9.4.0-1ubuntu1~20.04.2) 9.4.0
To view detailed results, visit:
https://lab.dpdk.org/results/dashboard/patchsets/31847/
UNH-IOL DPDK Community Lab
To manage your email subscriptions, visit:
https://lab.dpdk.org/results/dashboard/preferences/subscriptions/
More information about the test-report
mailing list