|SUCCESS| pw148295 [PATCH] bus/fslmc: fix bus scan return failure va
dpdklab at iol.unh.edu
dpdklab at iol.unh.edu
Mon Nov 11 15:45:30 CET 2024
Test-Label: iol-unit-arm64-testing
Test-Status: SUCCESS
http://dpdk.org/patch/148295
_Testing PASS_
Submitter: Hemant Agrawal <hemant.agrawal at nxp.com>
Date: Monday, November 11 2024 10:26:07
DPDK git baseline: Repo:dpdk
Branch: master
CommitID:4d23d39fd06ed89b2d2566273b95bbecbd48ed83
148295 --> testing pass
Upstream job id: Generic-Unit-Test-DPDK#290211
Test environment and result as below:
+-----------------------+----------------+--------------+---------------------------+------------------------------+
| Environment | dpdk_unit_test | lpm_autotest | cryptodev_sw_zuc_autotest | cryptodev_sw_snow3g_autotest |
+=======================+================+==============+===========================+==============================+
| Debian 12 (arm) | PASS | SKIPPED | PASS | PASS |
+-----------------------+----------------+--------------+---------------------------+------------------------------+
| CentOS Stream 9 (ARM) | PASS | SKIPPED | SKIPPED | SKIPPED |
+-----------------------+----------------+--------------+---------------------------+------------------------------+
| Fedora 39 (ARM) | PASS | SKIPPED | SKIPPED | SKIPPED |
+-----------------------+----------------+--------------+---------------------------+------------------------------+
| Fedora 39 (ARM Clang) | PASS | SKIPPED | SKIPPED | SKIPPED |
+-----------------------+----------------+--------------+---------------------------+------------------------------+
| Fedora 40 (ARM Clang) | PASS | SKIPPED | SKIPPED | SKIPPED |
+-----------------------+----------------+--------------+---------------------------+------------------------------+
| Fedora 40 (ARM) | PASS | SKIPPED | SKIPPED | SKIPPED |
+-----------------------+----------------+--------------+---------------------------+------------------------------+
| RHEL9 (ARM) | PASS | SKIPPED | SKIPPED | SKIPPED |
+-----------------------+----------------+--------------+---------------------------+------------------------------+
| Ubuntu 20.04 (ARM) | PASS | SKIPPED | SKIPPED | SKIPPED |
+-----------------------+----------------+--------------+---------------------------+------------------------------+
| Ubuntu 22.04 (ARM) | PASS | SKIPPED | SKIPPED | SKIPPED |
+-----------------------+----------------+--------------+---------------------------+------------------------------+
| Ubuntu 24.04 (ARM) | PASS | SKIPPED | SKIPPED | SKIPPED |
+-----------------------+----------------+--------------+---------------------------+------------------------------+
| Ubuntu 20.04 ARM SVE | SKIPPED | PASS | SKIPPED | SKIPPED |
+-----------------------+----------------+--------------+---------------------------+------------------------------+
Debian 12 (arm)
Kernel: Depends on container host
Compiler: gcc (Debian 12.2.0-14) 12.2.0
CentOS Stream 9 (ARM)
Kernel: Depends on container host
Compiler: gcc 11.4.1 20231218 (Red Hat 11.4.1-3)
Fedora 39 (ARM)
Kernel: Depends on container host
Compiler: gcc 13.3.1 20240522 (Red Hat 13.3.1-1)
Fedora 39 (ARM Clang)
Kernel: Depends on container host
Compiler: clang 17.0.6 (Fedora 17.0.6-2.fc39)
Fedora 40 (ARM Clang)
Kernel: Depends on container host
Compiler: clang 18.1.6 (Fedora 18.1.6-3.fc40)
Fedora 40 (ARM)
Kernel: Depends on container host
Compiler: gcc 14.2.1 20240801 (Red Hat 14.2.1-1)
RHEL9 (ARM)
Kernel: Depends on container host
Compiler: gcc 11.4.1 20231218 (Red Hat 11.4.1-3)
Ubuntu 20.04 (ARM)
Kernel: Depends on container host
Compiler: gcc (Ubuntu 9.4.0-1ubuntu1~20.04.2) 9.4.0
Ubuntu 22.04 (ARM)
Kernel: Depends on container host
Compiler: gcc (Ubuntu 11.4.0-1ubuntu1~22.04) 11.4.0
Ubuntu 24.04 (ARM)
Kernel: Depends on container host
Compiler: gcc (Ubuntu 13.2.0-23ubuntu4) 13.2.0
Ubuntu 20.04 ARM SVE
Kernel: Depends on container host
Compiler: gcc (Ubuntu 10.5.0-1ubuntu1~20.04) 10.5.0
To view detailed results, visit:
https://lab.dpdk.org/results/dashboard/patchsets/31880/
UNH-IOL DPDK Community Lab
To manage your email subscriptions, visit:
https://lab.dpdk.org/results/dashboard/preferences/subscriptions/
More information about the test-report
mailing list