|WARNING| pw148295 [PATCH] bus/fslmc: fix bus scan return failure va
dpdklab at iol.unh.edu
dpdklab at iol.unh.edu
Mon Nov 11 16:06:34 CET 2024
Test-Label: iol-compile-amd64-testing
Test-Status: WARNING
http://dpdk.org/patch/148295
_Testing issues_
Submitter: Hemant Agrawal <hemant.agrawal at nxp.com>
Date: Monday, November 11 2024 10:26:07
DPDK git baseline: Repo:dpdk
Branch: master
CommitID:4d23d39fd06ed89b2d2566273b95bbecbd48ed83
148295 --> testing issues
Upstream job id: Generic-DPDK-Compile-Meson#331993
Test environment and result as below:
+-------------------+--------------------+------------------+-------------------+
| Environment | dpdk_meson_compile | dpdk_compile_ovs | dpdk_compile_spdk |
+===================+====================+==================+===================+
| CentOS Stream 9 | PEND | PEND | PEND |
+-------------------+--------------------+------------------+-------------------+
| Debian 12 | PASS | PASS | WARN |
+-------------------+--------------------+------------------+-------------------+
| Fedora 39 (Clang) | PEND | PEND | PEND |
+-------------------+--------------------+------------------+-------------------+
| Fedora 39 | PEND | PEND | PEND |
+-------------------+--------------------+------------------+-------------------+
| Fedora 40 | PEND | PEND | PEND |
+-------------------+--------------------+------------------+-------------------+
| openSUSE Leap 15 | PEND | PEND | SKIPPED |
+-------------------+--------------------+------------------+-------------------+
| RHEL8 | PEND | PEND | SKIPPED |
+-------------------+--------------------+------------------+-------------------+
| Ubuntu 20.04 | PEND | PEND | SKIPPED |
+-------------------+--------------------+------------------+-------------------+
| Ubuntu 22.04 | PEND | PEND | PEND |
+-------------------+--------------------+------------------+-------------------+
| Ubuntu 24.04 | PEND | PEND | PEND |
+-------------------+--------------------+------------------+-------------------+
==== 20 line log output for Debian 12 (dpdk_compile_spdk): ====
--- Failed to get log output ---
==== End log output ====
CentOS Stream 9
Kernel: Depends on container host
Compiler: gcc 11.4.1 20231218 (Red Hat 11.4.1-3)
Debian 12
Kernel: Depends on container host
Compiler: gcc (Debian 12.2.0-14) 12.2.0
Fedora 39 (Clang)
Kernel: Depends on container host
Compiler: clang 17.0.6 (Fedora 17.0.6-2.fc39)
Fedora 39
Kernel: Depends on container host
Compiler: gcc 13.3.1 20240522 (Red Hat 13.3.1-1)
Fedora 40
Kernel: Depends on container host
Compiler: gcc 14.2.1 20240801 (Red Hat 14.2.1-1)
openSUSE Leap 15
Kernel: Depends on container host
Compiler: gcc (SUSE Linux) 7.5.0
RHEL8
Kernel: Depends on container host
Compiler: gcc 8.5.0 20210514 (Red Hat 8.5.0-22)
Ubuntu 20.04
Kernel: Depends on container host
Compiler: gcc (Ubuntu 9.4.0-1ubuntu1~20.04.2) 9.4.0
Ubuntu 22.04
Kernel: Depends on container host
Compiler: gcc (Ubuntu 11.4.0-1ubuntu1~22.04) 11.4.0
Ubuntu 24.04
Kernel: Depends on container host
Compiler: gcc (Ubuntu 13.2.0-23ubuntu4) 13.2.0
To view detailed results, visit:
https://lab.dpdk.org/results/dashboard/patchsets/31880/
UNH-IOL DPDK Community Lab
To manage your email subscriptions, visit:
https://lab.dpdk.org/results/dashboard/preferences/subscriptions/
More information about the test-report
mailing list