|WARNING| pw148303 [PATCH] power: fix a typo in the PM QoS guide
dpdklab at iol.unh.edu
dpdklab at iol.unh.edu
Mon Nov 11 19:07:38 CET 2024
Test-Label: iol-compile-amd64-testing
Test-Status: WARNING
http://dpdk.org/patch/148303
_Testing issues_
Submitter: Huisong Li <lihuisong at huawei.com>
Date: Monday, November 11 2024 12:52:49
DPDK git baseline: Repo:dpdk
Branch: master
CommitID:86201f1d018fa121a54462f43edef8f3bccd43f7
148303 --> testing issues
Upstream job id: Generic-DPDK-Compile-Meson#332098
Test environment and result as below:
+-------------------+--------------------+------------------+-------------------+
| Environment | dpdk_meson_compile | dpdk_compile_ovs | dpdk_compile_spdk |
+===================+====================+==================+===================+
| CentOS Stream 9 | PASS | PASS | WARN |
+-------------------+--------------------+------------------+-------------------+
| Debian 12 | PEND | PEND | PEND |
+-------------------+--------------------+------------------+-------------------+
| Fedora 39 (Clang) | PEND | PEND | PEND |
+-------------------+--------------------+------------------+-------------------+
| Fedora 39 | PEND | PEND | PEND |
+-------------------+--------------------+------------------+-------------------+
| Fedora 40 (Clang) | PEND | PEND | PEND |
+-------------------+--------------------+------------------+-------------------+
| Fedora 40 | PEND | PEND | PEND |
+-------------------+--------------------+------------------+-------------------+
| openSUSE Leap 15 | PEND | PEND | SKIPPED |
+-------------------+--------------------+------------------+-------------------+
| RHEL8 | PEND | PEND | SKIPPED |
+-------------------+--------------------+------------------+-------------------+
| RHEL9 | PEND | PEND | SKIPPED |
+-------------------+--------------------+------------------+-------------------+
==== 20 line log output for CentOS Stream 9 (dpdk_compile_spdk): ====
--- Failed to get log output ---
==== End log output ====
CentOS Stream 9
Kernel: Depends on container host
Compiler: gcc 11.4.1 20231218 (Red Hat 11.4.1-3)
Debian 12
Kernel: Depends on container host
Compiler: gcc (Debian 12.2.0-14) 12.2.0
Fedora 39 (Clang)
Kernel: Depends on container host
Compiler: clang 17.0.6 (Fedora 17.0.6-2.fc39)
Fedora 39
Kernel: Depends on container host
Compiler: gcc 13.3.1 20240522 (Red Hat 13.3.1-1)
Fedora 40 (Clang)
Kernel: Depends on container host
Compiler: clang 18.1.6 (Fedora 18.1.6-3.fc40)
Fedora 40
Kernel: Depends on container host
Compiler: gcc 14.2.1 20240801 (Red Hat 14.2.1-1)
openSUSE Leap 15
Kernel: Depends on container host
Compiler: gcc (SUSE Linux) 7.5.0
RHEL8
Kernel: Depends on container host
Compiler: gcc 8.5.0 20210514 (Red Hat 8.5.0-22)
RHEL9
Kernel: Depends on container host
Compiler: gcc 11.4.1 20231218 (Red Hat 11.4.1-3)
To view detailed results, visit:
https://lab.dpdk.org/results/dashboard/patchsets/31882/
UNH-IOL DPDK Community Lab
To manage your email subscriptions, visit:
https://lab.dpdk.org/results/dashboard/preferences/subscriptions/
More information about the test-report
mailing list