|SUCCESS| pw148303 [PATCH] power: fix a typo in the PM QoS guide

dpdklab at iol.unh.edu dpdklab at iol.unh.edu
Mon Nov 11 19:47:24 CET 2024


Test-Label: iol-unit-arm64-testing
Test-Status: SUCCESS
http://dpdk.org/patch/148303

_Testing PASS_

Submitter: Huisong Li <lihuisong at huawei.com>
Date: Monday, November 11 2024 12:52:49 
DPDK git baseline: Repo:dpdk
  Branch: master
  CommitID:86201f1d018fa121a54462f43edef8f3bccd43f7

148303 --> testing pass

Upstream job id: Aarch32-Unit-Test#4236

Test environment and result as below:

+-----------------------------+---------------------------+--------------+------------------------------+----------------+
|         Environment         | cryptodev_sw_zuc_autotest | lpm_autotest | cryptodev_sw_snow3g_autotest | dpdk_unit_test |
+=============================+===========================+==============+==============================+================+
| Debian 12 (arm)             | PASS                      | SKIPPED      | PASS                         | SKIPPED        |
+-----------------------------+---------------------------+--------------+------------------------------+----------------+
| Ubuntu 20.04 ARM SVE        | SKIPPED                   | PASS         | SKIPPED                      | SKIPPED        |
+-----------------------------+---------------------------+--------------+------------------------------+----------------+
| 32-bit Ubuntu 22.04.4 (ARM) | SKIPPED                   | SKIPPED      | SKIPPED                      | PASS           |
+-----------------------------+---------------------------+--------------+------------------------------+----------------+


Debian 12 (arm)
	Kernel: Depends on container host
	Compiler: gcc (Debian 12.2.0-14) 12.2.0

Ubuntu 20.04 ARM SVE
	Kernel: Depends on container host
	Compiler: gcc (Ubuntu 10.5.0-1ubuntu1~20.04) 10.5.0

32-bit Ubuntu 22.04.4 (ARM)
	Kernel: 5.15.83+ aarch64
	Compiler: gcc (Ubuntu 11.4.0-1ubuntu1~22.04) 11.4.0

To view detailed results, visit:
https://lab.dpdk.org/results/dashboard/patchsets/31882/

UNH-IOL DPDK Community Lab

To manage your email subscriptions, visit: 
https://lab.dpdk.org/results/dashboard/preferences/subscriptions/


More information about the test-report mailing list