|SUCCESS| pw148356-148357 [PATCH] [2/2] ci: install libvirt
dpdklab at iol.unh.edu
dpdklab at iol.unh.edu
Tue Nov 12 20:03:06 CET 2024
Test-Label: iol-unit-arm64-testing
Test-Status: SUCCESS
http://dpdk.org/patch/148357
_Testing PASS_
Submitter: David Marchand <david.marchand at redhat.com>
Date: Tuesday, November 12 2024 10:34:54
DPDK git baseline: Repo:dpdk
Branch: master
CommitID:49a841e1983acfaefdfe19957166d985ad921867
148356-148357 --> testing pass
Upstream job id: Generic-Unit-Test-DPDK#290617
Test environment and result as below:
+-----------------------------+--------------+---------------------------+------------------------------+----------------+
| Environment | lpm_autotest | cryptodev_sw_zuc_autotest | cryptodev_sw_snow3g_autotest | dpdk_unit_test |
+=============================+==============+===========================+==============================+================+
| Ubuntu 20.04 ARM SVE | PASS | SKIPPED | SKIPPED | SKIPPED |
+-----------------------------+--------------+---------------------------+------------------------------+----------------+
| Debian 12 (arm) | SKIPPED | PASS | PASS | PASS |
+-----------------------------+--------------+---------------------------+------------------------------+----------------+
| CentOS Stream 9 (ARM) | SKIPPED | SKIPPED | SKIPPED | PASS |
+-----------------------------+--------------+---------------------------+------------------------------+----------------+
| Fedora 39 (ARM) | SKIPPED | SKIPPED | SKIPPED | PASS |
+-----------------------------+--------------+---------------------------+------------------------------+----------------+
| Fedora 40 (ARM) | SKIPPED | SKIPPED | SKIPPED | PASS |
+-----------------------------+--------------+---------------------------+------------------------------+----------------+
| Ubuntu 20.04 (ARM) | SKIPPED | SKIPPED | SKIPPED | PASS |
+-----------------------------+--------------+---------------------------+------------------------------+----------------+
| Fedora 39 (ARM Clang) | SKIPPED | SKIPPED | SKIPPED | PASS |
+-----------------------------+--------------+---------------------------+------------------------------+----------------+
| Fedora 40 (ARM Clang) | SKIPPED | SKIPPED | SKIPPED | PASS |
+-----------------------------+--------------+---------------------------+------------------------------+----------------+
| Ubuntu 22.04 (ARM) | SKIPPED | SKIPPED | SKIPPED | PASS |
+-----------------------------+--------------+---------------------------+------------------------------+----------------+
| RHEL9 (ARM) | SKIPPED | SKIPPED | SKIPPED | PASS |
+-----------------------------+--------------+---------------------------+------------------------------+----------------+
| Ubuntu 24.04 (ARM) | SKIPPED | SKIPPED | SKIPPED | PASS |
+-----------------------------+--------------+---------------------------+------------------------------+----------------+
| 32-bit Ubuntu 22.04.4 (ARM) | SKIPPED | SKIPPED | SKIPPED | PASS |
+-----------------------------+--------------+---------------------------+------------------------------+----------------+
Ubuntu 20.04 ARM SVE
Kernel: Depends on container host
Compiler: gcc (Ubuntu 10.5.0-1ubuntu1~20.04) 10.5.0
Debian 12 (arm)
Kernel: Depends on container host
Compiler: gcc (Debian 12.2.0-14) 12.2.0
CentOS Stream 9 (ARM)
Kernel: Depends on container host
Compiler: gcc 11.4.1 20231218 (Red Hat 11.4.1-3)
Fedora 39 (ARM)
Kernel: Depends on container host
Compiler: gcc 13.3.1 20240522 (Red Hat 13.3.1-1)
Fedora 40 (ARM)
Kernel: Depends on container host
Compiler: gcc 14.2.1 20240801 (Red Hat 14.2.1-1)
Ubuntu 20.04 (ARM)
Kernel: Depends on container host
Compiler: gcc (Ubuntu 9.4.0-1ubuntu1~20.04.2) 9.4.0
Fedora 39 (ARM Clang)
Kernel: Depends on container host
Compiler: clang 17.0.6 (Fedora 17.0.6-2.fc39)
Fedora 40 (ARM Clang)
Kernel: Depends on container host
Compiler: clang 18.1.6 (Fedora 18.1.6-3.fc40)
Ubuntu 22.04 (ARM)
Kernel: Depends on container host
Compiler: gcc (Ubuntu 11.4.0-1ubuntu1~22.04) 11.4.0
RHEL9 (ARM)
Kernel: Depends on container host
Compiler: gcc 11.4.1 20231218 (Red Hat 11.4.1-3)
Ubuntu 24.04 (ARM)
Kernel: Depends on container host
Compiler: gcc (Ubuntu 13.2.0-23ubuntu4) 13.2.0
32-bit Ubuntu 22.04.4 (ARM)
Kernel: 5.15.83+ aarch64
Compiler: gcc (Ubuntu 11.4.0-1ubuntu1~22.04) 11.4.0
To view detailed results, visit:
https://lab.dpdk.org/results/dashboard/patchsets/31892/
UNH-IOL DPDK Community Lab
To manage your email subscriptions, visit:
https://lab.dpdk.org/results/dashboard/preferences/subscriptions/
More information about the test-report
mailing list