|WARNING| [GIT MASTER] c5df7a373ad07413d9652479272cd16adf989b06

dpdklab at iol.unh.edu dpdklab at iol.unh.edu
Wed Nov 13 17:36:34 CET 2024


_Testing issues_

Branch: dpdk-next-net

c5df7a373ad07413d9652479272cd16adf989b06 --> testing issues

Upstream job id: Generic-DPDK-Compile-Meson#332884

Test environment and result as below:

+------------------+--------------------+------------------+-------------------+
|   Environment    | dpdk_meson_compile | dpdk_compile_ovs | dpdk_compile_spdk |
+==================+====================+==================+===================+
| Fedora 39        | PASS               | PASS             | WARN              |
+------------------+--------------------+------------------+-------------------+
| openSUSE Leap 15 | PASS               | PASS             | SKIPPED           |
+------------------+--------------------+------------------+-------------------+
| Fedora 40        | PASS               | PASS             | WARN              |
+------------------+--------------------+------------------+-------------------+
| RHEL9            | PASS               | PASS             | SKIPPED           |
+------------------+--------------------+------------------+-------------------+
| RHEL8            | PASS               | PASS             | SKIPPED           |
+------------------+--------------------+------------------+-------------------+
| Ubuntu 20.04     | PASS               | PASS             | SKIPPED           |
+------------------+--------------------+------------------+-------------------+
| Ubuntu 22.04     | PASS               | PASS             | WARN              |
+------------------+--------------------+------------------+-------------------+
| Ubuntu 24.04     | PASS               | PASS             | WARN              |
+------------------+--------------------+------------------+-------------------+
| Alpine           | PASS               | PASS             | SKIPPED           |
+------------------+--------------------+------------------+-------------------+
| FreeBSD 14.1     | PASS               | SKIPPED          | SKIPPED           |
+------------------+--------------------+------------------+-------------------+

==== 20 line log output for Ubuntu 24.04 (dpdk_compile_spdk): ====
 --- Failed to get log output --- 
==== End log output ====

Fedora 39
	Kernel: Depends on container host
	Compiler: gcc 13.3.1 20240522 (Red Hat 13.3.1-1)

openSUSE Leap 15
	Kernel: Depends on container host
	Compiler: gcc (SUSE Linux) 7.5.0

Fedora 40
	Kernel: Depends on container host
	Compiler: gcc 14.2.1 20240801 (Red Hat 14.2.1-1)

RHEL9
	Kernel: Depends on container host
	Compiler: gcc 11.4.1 20231218 (Red Hat 11.4.1-3)

RHEL8
	Kernel: Depends on container host
	Compiler: gcc 8.5.0 20210514 (Red Hat 8.5.0-22)

Ubuntu 20.04
	Kernel: Depends on container host
	Compiler: gcc (Ubuntu 9.4.0-1ubuntu1~20.04.2) 9.4.0

Ubuntu 22.04
	Kernel: Depends on container host
	Compiler: gcc (Ubuntu 11.4.0-1ubuntu1~22.04) 11.4.0

Ubuntu 24.04
	Kernel: Depends on container host
	Compiler: gcc (Ubuntu 13.2.0-23ubuntu4) 13.2.0

Alpine
	Kernel: Depends on container host
	Compiler: gcc (Alpine 13.2.1_git20240309) 13.2.1 20240309

FreeBSD 14.1
	Kernel: 14.1-RELEASE-p3
	Compiler: clang 18.1.5

To view detailed results, visit:
https://lab.dpdk.org/results/dashboard/tarballs/31542/

UNH-IOL DPDK Community Lab

To manage your email subscriptions, visit: 
https://lab.dpdk.org/results/dashboard/preferences/subscriptions/


More information about the test-report mailing list