|WARNING| pw148370 [PATCH] rcu: shift 64-bit constant to avoid impli
dpdklab at iol.unh.edu
dpdklab at iol.unh.edu
Wed Nov 13 20:10:22 CET 2024
Test-Label: iol-compile-amd64-testing
Test-Status: WARNING
http://dpdk.org/patch/148370
_Testing issues_
Submitter: Andre Muezerie <andremue at linux.microsoft.com>
Date: Tuesday, November 12 2024 22:02:39
DPDK git baseline: Repo:dpdk
Branch: master
CommitID:c5df7a373ad07413d9652479272cd16adf989b06
148370 --> testing issues
Upstream job id: Generic-DPDK-Compile-Meson#332996
Test environment and result as below:
+-------------------+--------------------+------------------+-------------------+
| Environment | dpdk_meson_compile | dpdk_compile_ovs | dpdk_compile_spdk |
+===================+====================+==================+===================+
| FreeBSD 13.4 | PASS | SKIPPED | SKIPPED |
+-------------------+--------------------+------------------+-------------------+
| CentOS Stream 9 | PEND | PEND | PEND |
+-------------------+--------------------+------------------+-------------------+
| Fedora 39 (Clang) | PEND | PEND | PEND |
+-------------------+--------------------+------------------+-------------------+
| Fedora 39 | PEND | PEND | PEND |
+-------------------+--------------------+------------------+-------------------+
| Fedora 40 (Clang) | PEND | PEND | PEND |
+-------------------+--------------------+------------------+-------------------+
| Fedora 40 | PEND | PEND | PEND |
+-------------------+--------------------+------------------+-------------------+
| openSUSE Leap 15 | PASS | PASS | SKIPPED |
+-------------------+--------------------+------------------+-------------------+
| RHEL9 | PASS | PASS | SKIPPED |
+-------------------+--------------------+------------------+-------------------+
| RHEL8 | PASS | PASS | SKIPPED |
+-------------------+--------------------+------------------+-------------------+
| Ubuntu 24.04 | PASS | PASS | WARN |
+-------------------+--------------------+------------------+-------------------+
==== 20 line log output for Ubuntu 24.04 (dpdk_compile_spdk): ====
--- Failed to get log output ---
==== End log output ====
FreeBSD 13.4
Kernel: 13.4-RELEASE-p1
Compiler: clang 18.1.6
CentOS Stream 9
Kernel: Depends on container host
Compiler: gcc 11.4.1 20231218 (Red Hat 11.4.1-3)
Fedora 39 (Clang)
Kernel: Depends on container host
Compiler: clang 17.0.6 (Fedora 17.0.6-2.fc39)
Fedora 39
Kernel: Depends on container host
Compiler: gcc 13.3.1 20240522 (Red Hat 13.3.1-1)
Fedora 40 (Clang)
Kernel: Depends on container host
Compiler: clang 18.1.6 (Fedora 18.1.6-3.fc40)
Fedora 40
Kernel: Depends on container host
Compiler: gcc 14.2.1 20240801 (Red Hat 14.2.1-1)
openSUSE Leap 15
Kernel: Depends on container host
Compiler: gcc (SUSE Linux) 7.5.0
RHEL9
Kernel: Depends on container host
Compiler: gcc 11.4.1 20231218 (Red Hat 11.4.1-3)
RHEL8
Kernel: Depends on container host
Compiler: gcc 8.5.0 20210514 (Red Hat 8.5.0-22)
Ubuntu 24.04
Kernel: Depends on container host
Compiler: gcc (Ubuntu 13.2.0-23ubuntu4) 13.2.0
To view detailed results, visit:
https://lab.dpdk.org/results/dashboard/patchsets/31899/
UNH-IOL DPDK Community Lab
To manage your email subscriptions, visit:
https://lab.dpdk.org/results/dashboard/preferences/subscriptions/
More information about the test-report
mailing list