|SUCCESS| pw148389 [PATCH] net/mlx5: fix Rx queue ref count in flush
dpdklab at iol.unh.edu
dpdklab at iol.unh.edu
Wed Nov 13 20:52:10 CET 2024
Test-Label: iol-unit-arm64-testing
Test-Status: SUCCESS
http://dpdk.org/patch/148389
_Testing PASS_
Submitter: Bing Zhao <bingz at nvidia.com>
Date: Wednesday, November 13 2024 07:22:44
DPDK git baseline: Repo:dpdk
Branch: master
CommitID:c5df7a373ad07413d9652479272cd16adf989b06
148389 --> testing pass
Upstream job id: Generic-Unit-Test-DPDK#291008
Test environment and result as below:
+-----------------------+----------------+
| Environment | dpdk_unit_test |
+=======================+================+
| CentOS Stream 9 (ARM) | PASS |
+-----------------------+----------------+
| Debian 12 (arm) | PASS |
+-----------------------+----------------+
| Fedora 39 (ARM) | PASS |
+-----------------------+----------------+
| Fedora 40 (ARM) | PASS |
+-----------------------+----------------+
| Fedora 39 (ARM Clang) | PASS |
+-----------------------+----------------+
| Fedora 40 (ARM Clang) | PASS |
+-----------------------+----------------+
| Ubuntu 20.04 (ARM) | PASS |
+-----------------------+----------------+
| RHEL9 (ARM) | PASS |
+-----------------------+----------------+
| Ubuntu 24.04 (ARM) | PASS |
+-----------------------+----------------+
| Ubuntu 22.04 (ARM) | PASS |
+-----------------------+----------------+
CentOS Stream 9 (ARM)
Kernel: Depends on container host
Compiler: gcc 11.4.1 20231218 (Red Hat 11.4.1-3)
Debian 12 (arm)
Kernel: Depends on container host
Compiler: gcc (Debian 12.2.0-14) 12.2.0
Fedora 39 (ARM)
Kernel: Depends on container host
Compiler: gcc 13.3.1 20240522 (Red Hat 13.3.1-1)
Fedora 40 (ARM)
Kernel: Depends on container host
Compiler: gcc 14.2.1 20240801 (Red Hat 14.2.1-1)
Fedora 39 (ARM Clang)
Kernel: Depends on container host
Compiler: clang 17.0.6 (Fedora 17.0.6-2.fc39)
Fedora 40 (ARM Clang)
Kernel: Depends on container host
Compiler: clang 18.1.6 (Fedora 18.1.6-3.fc40)
Ubuntu 20.04 (ARM)
Kernel: Depends on container host
Compiler: gcc (Ubuntu 9.4.0-1ubuntu1~20.04.2) 9.4.0
RHEL9 (ARM)
Kernel: Depends on container host
Compiler: gcc 11.4.1 20231218 (Red Hat 11.4.1-3)
Ubuntu 24.04 (ARM)
Kernel: Depends on container host
Compiler: gcc (Ubuntu 13.2.0-23ubuntu4) 13.2.0
Ubuntu 22.04 (ARM)
Kernel: Depends on container host
Compiler: gcc (Ubuntu 11.4.0-1ubuntu1~22.04) 11.4.0
To view detailed results, visit:
https://lab.dpdk.org/results/dashboard/patchsets/31906/
UNH-IOL DPDK Community Lab
To manage your email subscriptions, visit:
https://lab.dpdk.org/results/dashboard/preferences/subscriptions/
More information about the test-report
mailing list