|SUCCESS| pw148424 [PATCH] [v2] dts: add time delay to async sniffer
dpdklab at iol.unh.edu
dpdklab at iol.unh.edu
Thu Nov 14 02:09:49 CET 2024
Test-Label: iol-unit-arm64-testing
Test-Status: SUCCESS
http://dpdk.org/patch/148424
_Testing PASS_
Submitter: Nicholas Pratte <npratte at iol.unh.edu>
Date: Wednesday, November 13 2024 18:56:29
DPDK git baseline: Repo:dpdk
Branch: master
CommitID:78383e9816a8efe2ba16ec2ce65d51b94e6114e7
148424 --> testing pass
Upstream job id: Generic-Unit-Test-DPDK#291170
Test environment and result as below:
+----------------------+------------------------------+--------------+---------------------------+
| Environment | cryptodev_sw_snow3g_autotest | lpm_autotest | cryptodev_sw_zuc_autotest |
+======================+==============================+==============+===========================+
| Debian 12 (arm) | PASS | SKIPPED | PASS |
+----------------------+------------------------------+--------------+---------------------------+
| Ubuntu 20.04 ARM SVE | SKIPPED | PASS | SKIPPED |
+----------------------+------------------------------+--------------+---------------------------+
Debian 12 (arm)
Kernel: Depends on container host
Compiler: gcc (Debian 12.2.0-14) 12.2.0
Ubuntu 20.04 ARM SVE
Kernel: Depends on container host
Compiler: gcc (Ubuntu 10.5.0-1ubuntu1~20.04) 10.5.0
To view detailed results, visit:
https://lab.dpdk.org/results/dashboard/patchsets/31918/
UNH-IOL DPDK Community Lab
To manage your email subscriptions, visit:
https://lab.dpdk.org/results/dashboard/preferences/subscriptions/
More information about the test-report
mailing list