|WARNING| [GIT MASTER] 78383e9816a8efe2ba16ec2ce65d51b94e6114e7
dpdklab at iol.unh.edu
dpdklab at iol.unh.edu
Thu Nov 14 09:02:50 CET 2024
_Testing issues_
Branch: dpdk
78383e9816a8efe2ba16ec2ce65d51b94e6114e7 --> testing issues
Upstream job id: Generic-DPDK-Compile-Meson#333412
Test environment and result as below:
+-------------------+--------------------+------------------+-------------------+
| Environment | dpdk_meson_compile | dpdk_compile_ovs | dpdk_compile_spdk |
+===================+====================+==================+===================+
| Fedora 39 (Clang) | PASS | PASS | WARN |
+-------------------+--------------------+------------------+-------------------+
| Debian 12 | PASS | PASS | WARN |
+-------------------+--------------------+------------------+-------------------+
| Fedora 39 | PASS | PASS | WARN |
+-------------------+--------------------+------------------+-------------------+
| openSUSE Leap 15 | PASS | PASS | SKIPPED |
+-------------------+--------------------+------------------+-------------------+
| Fedora 40 | PASS | PASS | WARN |
+-------------------+--------------------+------------------+-------------------+
| Fedora 40 (Clang) | PASS | PASS | WARN |
+-------------------+--------------------+------------------+-------------------+
| Ubuntu 22.04 | PASS | PASS | WARN |
+-------------------+--------------------+------------------+-------------------+
| Ubuntu 20.04 | PASS | PASS | SKIPPED |
+-------------------+--------------------+------------------+-------------------+
| RHEL9 | PASS | PASS | SKIPPED |
+-------------------+--------------------+------------------+-------------------+
| Ubuntu 24.04 | PASS | PASS | WARN |
+-------------------+--------------------+------------------+-------------------+
| Alpine | PASS | PASS | SKIPPED |
+-------------------+--------------------+------------------+-------------------+
| Arch Linux | PASS | PASS | SKIPPED |
+-------------------+--------------------+------------------+-------------------+
| FreeBSD 14.1 | PASS | SKIPPED | SKIPPED |
+-------------------+--------------------+------------------+-------------------+
| CentOS Stream 9 | PASS | PASS | WARN |
+-------------------+--------------------+------------------+-------------------+
| RHEL8 | PASS | PASS | SKIPPED |
+-------------------+--------------------+------------------+-------------------+
| FreeBSD 13.4 | PASS | SKIPPED | SKIPPED |
+-------------------+--------------------+------------------+-------------------+
==== 20 line log output for CentOS Stream 9 (dpdk_compile_spdk): ====
--- Failed to get log output ---
==== End log output ====
Fedora 39 (Clang)
Kernel: Depends on container host
Compiler: clang 17.0.6 (Fedora 17.0.6-2.fc39)
Debian 12
Kernel: Depends on container host
Compiler: gcc (Debian 12.2.0-14) 12.2.0
Fedora 39
Kernel: Depends on container host
Compiler: gcc 13.3.1 20240522 (Red Hat 13.3.1-1)
openSUSE Leap 15
Kernel: Depends on container host
Compiler: gcc (SUSE Linux) 7.5.0
Fedora 40
Kernel: Depends on container host
Compiler: gcc 14.2.1 20240801 (Red Hat 14.2.1-1)
Fedora 40 (Clang)
Kernel: Depends on container host
Compiler: clang 18.1.6 (Fedora 18.1.6-3.fc40)
Ubuntu 22.04
Kernel: Depends on container host
Compiler: gcc (Ubuntu 11.4.0-1ubuntu1~22.04) 11.4.0
Ubuntu 20.04
Kernel: Depends on container host
Compiler: gcc (Ubuntu 9.4.0-1ubuntu1~20.04.2) 9.4.0
RHEL9
Kernel: Depends on container host
Compiler: gcc 11.4.1 20231218 (Red Hat 11.4.1-3)
Ubuntu 24.04
Kernel: Depends on container host
Compiler: gcc (Ubuntu 13.2.0-23ubuntu4) 13.2.0
Alpine
Kernel: Depends on container host
Compiler: gcc (Alpine 13.2.1_git20240309) 13.2.1 20240309
Arch Linux
Kernel: Depends on container host
Compiler: gcc 14.2.1 20240805
FreeBSD 14.1
Kernel: 14.1-RELEASE-p3
Compiler: clang 18.1.5
CentOS Stream 9
Kernel: Depends on container host
Compiler: gcc 11.4.1 20231218 (Red Hat 11.4.1-3)
RHEL8
Kernel: Depends on container host
Compiler: gcc 8.5.0 20210514 (Red Hat 8.5.0-22)
FreeBSD 13.4
Kernel: 13.4-RELEASE-p1
Compiler: clang 18.1.6
To view detailed results, visit:
https://lab.dpdk.org/results/dashboard/tarballs/31560/
UNH-IOL DPDK Community Lab
To manage your email subscriptions, visit:
https://lab.dpdk.org/results/dashboard/preferences/subscriptions/
More information about the test-report
mailing list