|WARNING| pw148481-148485 [PATCH] [v5,5/5] raw/gdtc: add support for

dpdklab at iol.unh.edu dpdklab at iol.unh.edu
Thu Nov 14 23:02:48 CET 2024


Test-Label: iol-compile-amd64-testing
Test-Status: WARNING
http://dpdk.org/patch/148485

_Testing issues_

Submitter: Yong Zhang <zhang.yong25 at zte.com.cn>
Date: Thursday, November 14 2024 09:20:16 
DPDK git baseline: Repo:dpdk
  Branch: master
  CommitID:78383e9816a8efe2ba16ec2ce65d51b94e6114e7

148481-148485 --> testing issues

Upstream job id: Generic-DPDK-Compile-Meson#333779

Test environment and result as below:

+-------------------+--------------------+------------------+-------------------+
|    Environment    | dpdk_meson_compile | dpdk_compile_ovs | dpdk_compile_spdk |
+===================+====================+==================+===================+
| FreeBSD 13.4      | PASS               | SKIPPED          | SKIPPED           |
+-------------------+--------------------+------------------+-------------------+
| FreeBSD 14.1      | PASS               | SKIPPED          | SKIPPED           |
+-------------------+--------------------+------------------+-------------------+
| CentOS Stream 9   | PEND               | PEND             | PEND              |
+-------------------+--------------------+------------------+-------------------+
| Debian 12         | PASS               | PASS             | WARN              |
+-------------------+--------------------+------------------+-------------------+
| Fedora 39 (Clang) | PEND               | PEND             | PEND              |
+-------------------+--------------------+------------------+-------------------+
| Fedora 40 (Clang) | PEND               | PEND             | PEND              |
+-------------------+--------------------+------------------+-------------------+
| Fedora 40         | PEND               | PEND             | PEND              |
+-------------------+--------------------+------------------+-------------------+
| openSUSE Leap 15  | PEND               | PEND             | SKIPPED           |
+-------------------+--------------------+------------------+-------------------+
| RHEL8             | PEND               | PEND             | SKIPPED           |
+-------------------+--------------------+------------------+-------------------+
| Ubuntu 20.04      | PEND               | PEND             | SKIPPED           |
+-------------------+--------------------+------------------+-------------------+
| Ubuntu 24.04      | PEND               | PEND             | PEND              |
+-------------------+--------------------+------------------+-------------------+
| Alpine            | PEND               | PEND             | SKIPPED           |
+-------------------+--------------------+------------------+-------------------+

==== 20 line log output for Debian 12 (dpdk_compile_spdk): ====
 --- Failed to get log output --- 
==== End log output ====

FreeBSD 13.4
	Kernel: 13.4-RELEASE-p1
	Compiler: clang 18.1.6

FreeBSD 14.1
	Kernel: 14.1-RELEASE-p3
	Compiler: clang 18.1.5

CentOS Stream 9
	Kernel: Depends on container host
	Compiler: gcc 11.4.1 20231218 (Red Hat 11.4.1-3)

Debian 12
	Kernel: Depends on container host
	Compiler: gcc (Debian 12.2.0-14) 12.2.0

Fedora 39 (Clang)
	Kernel: Depends on container host
	Compiler: clang 17.0.6 (Fedora 17.0.6-2.fc39)

Fedora 40 (Clang)
	Kernel: Depends on container host
	Compiler: clang 18.1.6 (Fedora 18.1.6-3.fc40)

Fedora 40
	Kernel: Depends on container host
	Compiler: gcc 14.2.1 20240801 (Red Hat 14.2.1-1)

openSUSE Leap 15
	Kernel: Depends on container host
	Compiler: gcc (SUSE Linux) 7.5.0

RHEL8
	Kernel: Depends on container host
	Compiler: gcc 8.5.0 20210514 (Red Hat 8.5.0-22)

Ubuntu 20.04
	Kernel: Depends on container host
	Compiler: gcc (Ubuntu 9.4.0-1ubuntu1~20.04.2) 9.4.0

Ubuntu 24.04
	Kernel: Depends on container host
	Compiler: gcc (Ubuntu 13.2.0-23ubuntu4) 13.2.0

Alpine
	Kernel: Depends on container host
	Compiler: gcc (Alpine 13.2.1_git20240309) 13.2.1 20240309

To view detailed results, visit:
https://lab.dpdk.org/results/dashboard/patchsets/31933/

UNH-IOL DPDK Community Lab

To manage your email subscriptions, visit: 
https://lab.dpdk.org/results/dashboard/preferences/subscriptions/


More information about the test-report mailing list