|WARNING| pw148371 [PATCH] argparse: enable code to be compiled with
dpdklab at iol.unh.edu
dpdklab at iol.unh.edu
Fri Nov 15 00:19:12 CET 2024
Test-Label: iol-compile-amd64-testing
Test-Status: WARNING
http://dpdk.org/patch/148371
_Testing issues_
Submitter: Andre Muezerie <andremue at linux.microsoft.com>
Date: Tuesday, November 12 2024 22:48:33
DPDK git baseline: Repo:dpdk
Branch: master
CommitID:c5df7a373ad07413d9652479272cd16adf989b06
148371 --> testing issues
Upstream job id: Windows-Compile-DPDK-Native#24476
Test environment and result as below:
+---------------------+--------------------+------------------+-------------------+-------------------+-----------------------+
| Environment | dpdk_meson_compile | dpdk_compile_ovs | dpdk_compile_spdk | dpdk_msvc_compile | dpdk_win_llvm_compile |
+=====================+====================+==================+===================+===================+=======================+
| Fedora 40 | PASS | PASS | WARN | SKIPPED | SKIPPED |
+---------------------+--------------------+------------------+-------------------+-------------------+-----------------------+
| Fedora 40 (Clang) | PASS | PASS | WARN | SKIPPED | SKIPPED |
+---------------------+--------------------+------------------+-------------------+-------------------+-----------------------+
| openSUSE Leap 15 | PASS | PASS | SKIPPED | SKIPPED | SKIPPED |
+---------------------+--------------------+------------------+-------------------+-------------------+-----------------------+
| RHEL8 | PASS | PASS | SKIPPED | SKIPPED | SKIPPED |
+---------------------+--------------------+------------------+-------------------+-------------------+-----------------------+
| Ubuntu 20.04 | PASS | PASS | SKIPPED | SKIPPED | SKIPPED |
+---------------------+--------------------+------------------+-------------------+-------------------+-----------------------+
| Alpine | PASS | PASS | SKIPPED | SKIPPED | SKIPPED |
+---------------------+--------------------+------------------+-------------------+-------------------+-----------------------+
| FreeBSD 14.1 | PASS | SKIPPED | SKIPPED | SKIPPED | SKIPPED |
+---------------------+--------------------+------------------+-------------------+-------------------+-----------------------+
| Fedora 39 | PASS | PASS | WARN | SKIPPED | SKIPPED |
+---------------------+--------------------+------------------+-------------------+-------------------+-----------------------+
| Fedora 39 (Clang) | PASS | PASS | WARN | SKIPPED | SKIPPED |
+---------------------+--------------------+------------------+-------------------+-------------------+-----------------------+
| FreeBSD 13.4 | PASS | SKIPPED | SKIPPED | SKIPPED | SKIPPED |
+---------------------+--------------------+------------------+-------------------+-------------------+-----------------------+
| Ubuntu 24.04 | PASS | PASS | WARN | SKIPPED | SKIPPED |
+---------------------+--------------------+------------------+-------------------+-------------------+-----------------------+
| Ubuntu 22.04 | PASS | PASS | WARN | SKIPPED | SKIPPED |
+---------------------+--------------------+------------------+-------------------+-------------------+-----------------------+
| RHEL9 | PASS | PASS | SKIPPED | SKIPPED | SKIPPED |
+---------------------+--------------------+------------------+-------------------+-------------------+-----------------------+
| CentOS Stream 9 | PASS | PASS | WARN | SKIPPED | SKIPPED |
+---------------------+--------------------+------------------+-------------------+-------------------+-----------------------+
| Windows Server 2022 | SKIPPED | SKIPPED | SKIPPED | PASS | PASS |
+---------------------+--------------------+------------------+-------------------+-------------------+-----------------------+
==== 20 line log output for CentOS Stream 9 (dpdk_compile_spdk): ====
--- Failed to get log output ---
==== End log output ====
Fedora 40
Kernel: Depends on container host
Compiler: gcc 14.2.1 20240801 (Red Hat 14.2.1-1)
Fedora 40 (Clang)
Kernel: Depends on container host
Compiler: clang 18.1.6 (Fedora 18.1.6-3.fc40)
openSUSE Leap 15
Kernel: Depends on container host
Compiler: gcc (SUSE Linux) 7.5.0
RHEL8
Kernel: Depends on container host
Compiler: gcc 8.5.0 20210514 (Red Hat 8.5.0-22)
Ubuntu 20.04
Kernel: Depends on container host
Compiler: gcc (Ubuntu 9.4.0-1ubuntu1~20.04.2) 9.4.0
Alpine
Kernel: Depends on container host
Compiler: gcc (Alpine 13.2.1_git20240309) 13.2.1 20240309
FreeBSD 14.1
Kernel: 14.1-RELEASE-p3
Compiler: clang 18.1.5
Fedora 39
Kernel: Depends on container host
Compiler: gcc 13.3.1 20240522 (Red Hat 13.3.1-1)
Fedora 39 (Clang)
Kernel: Depends on container host
Compiler: clang 17.0.6 (Fedora 17.0.6-2.fc39)
FreeBSD 13.4
Kernel: 13.4-RELEASE-p1
Compiler: clang 18.1.6
Ubuntu 24.04
Kernel: Depends on container host
Compiler: gcc (Ubuntu 13.2.0-23ubuntu4) 13.2.0
Ubuntu 22.04
Kernel: Depends on container host
Compiler: gcc (Ubuntu 11.4.0-1ubuntu1~22.04) 11.4.0
RHEL9
Kernel: Depends on container host
Compiler: gcc 11.4.1 20231218 (Red Hat 11.4.1-3)
CentOS Stream 9
Kernel: Depends on container host
Compiler: gcc 11.4.1 20231218 (Red Hat 11.4.1-3)
Windows Server 2022
Kernel: 10.0.20348.2031
Compiler: clang 15.0.7, gcc 14.1.0 (MinGW), and MSVC VS 19.39.33521
To view detailed results, visit:
https://lab.dpdk.org/results/dashboard/patchsets/31900/
UNH-IOL DPDK Community Lab
To manage your email subscriptions, visit:
https://lab.dpdk.org/results/dashboard/preferences/subscriptions/
More information about the test-report
mailing list