|SUCCESS| pw148549 [PATCH] net/txgbe: fix a mass of interrupts

dpdklab at iol.unh.edu dpdklab at iol.unh.edu
Sat Nov 16 01:21:34 CET 2024


Test-Label: iol-unit-arm64-testing
Test-Status: SUCCESS
http://dpdk.org/patch/148549

_Testing PASS_

Submitter: Jiawen Wu <jiawenwu at trustnetic.com>
Date: Friday, November 15 2024 08:33:36 
DPDK git baseline: Repo:dpdk
  Branch: master
  CommitID:f275665c45d5f1bf84fe04de39f936af049ba991

148549 --> testing pass

Upstream job id: Generic-Unit-Test-DPDK#292142

Test environment and result as below:

+-----------------------------+--------------+------------------------------+----------------+---------------------------+
|         Environment         | lpm_autotest | cryptodev_sw_snow3g_autotest | dpdk_unit_test | cryptodev_sw_zuc_autotest |
+=============================+==============+==============================+================+===========================+
| Ubuntu 20.04 ARM SVE        | PASS         | SKIPPED                      | SKIPPED        | SKIPPED                   |
+-----------------------------+--------------+------------------------------+----------------+---------------------------+
| Debian 12 (arm)             | SKIPPED      | PASS                         | PASS           | PASS                      |
+-----------------------------+--------------+------------------------------+----------------+---------------------------+
| CentOS Stream 9 (ARM)       | SKIPPED      | SKIPPED                      | PASS           | SKIPPED                   |
+-----------------------------+--------------+------------------------------+----------------+---------------------------+
| Fedora 39 (ARM Clang)       | SKIPPED      | SKIPPED                      | PASS           | SKIPPED                   |
+-----------------------------+--------------+------------------------------+----------------+---------------------------+
| Fedora 39 (ARM)             | SKIPPED      | SKIPPED                      | PASS           | SKIPPED                   |
+-----------------------------+--------------+------------------------------+----------------+---------------------------+
| Fedora 40 (ARM Clang)       | SKIPPED      | SKIPPED                      | PASS           | SKIPPED                   |
+-----------------------------+--------------+------------------------------+----------------+---------------------------+
| Fedora 40 (ARM)             | SKIPPED      | SKIPPED                      | PASS           | SKIPPED                   |
+-----------------------------+--------------+------------------------------+----------------+---------------------------+
| Ubuntu 20.04 (ARM)          | SKIPPED      | SKIPPED                      | PASS           | SKIPPED                   |
+-----------------------------+--------------+------------------------------+----------------+---------------------------+
| RHEL9 (ARM)                 | SKIPPED      | SKIPPED                      | PASS           | SKIPPED                   |
+-----------------------------+--------------+------------------------------+----------------+---------------------------+
| Ubuntu 22.04 (ARM)          | SKIPPED      | SKIPPED                      | PASS           | SKIPPED                   |
+-----------------------------+--------------+------------------------------+----------------+---------------------------+
| Ubuntu 24.04 (ARM)          | SKIPPED      | SKIPPED                      | PASS           | SKIPPED                   |
+-----------------------------+--------------+------------------------------+----------------+---------------------------+
| 32-bit Ubuntu 22.04.4 (ARM) | SKIPPED      | SKIPPED                      | PASS           | SKIPPED                   |
+-----------------------------+--------------+------------------------------+----------------+---------------------------+


Ubuntu 20.04 ARM SVE
	Kernel: Depends on container host
	Compiler: gcc (Ubuntu 10.5.0-1ubuntu1~20.04) 10.5.0

Debian 12 (arm)
	Kernel: Depends on container host
	Compiler: gcc (Debian 12.2.0-14) 12.2.0

CentOS Stream 9 (ARM)
	Kernel: Depends on container host
	Compiler: gcc 11.4.1 20231218 (Red Hat 11.4.1-3)

Fedora 39 (ARM Clang)
	Kernel: Depends on container host
	Compiler: clang 17.0.6 (Fedora 17.0.6-2.fc39)

Fedora 39 (ARM)
	Kernel: Depends on container host
	Compiler: gcc 13.3.1 20240522 (Red Hat 13.3.1-1)

Fedora 40 (ARM Clang)
	Kernel: Depends on container host
	Compiler: clang 18.1.6 (Fedora 18.1.6-3.fc40)

Fedora 40 (ARM)
	Kernel: Depends on container host
	Compiler: gcc 14.2.1 20240801 (Red Hat 14.2.1-1)

Ubuntu 20.04 (ARM)
	Kernel: Depends on container host
	Compiler: gcc (Ubuntu 9.4.0-1ubuntu1~20.04.2) 9.4.0

RHEL9 (ARM)
	Kernel: Depends on container host
	Compiler: gcc 11.4.1 20231218 (Red Hat 11.4.1-3)

Ubuntu 22.04 (ARM)
	Kernel: Depends on container host
	Compiler: gcc (Ubuntu 11.4.0-1ubuntu1~22.04) 11.4.0

Ubuntu 24.04 (ARM)
	Kernel: Depends on container host
	Compiler: gcc (Ubuntu 13.2.0-23ubuntu4) 13.2.0

32-bit Ubuntu 22.04.4 (ARM)
	Kernel: 5.15.83+ aarch64
	Compiler: gcc (Ubuntu 11.4.0-1ubuntu1~22.04) 11.4.0

To view detailed results, visit:
https://lab.dpdk.org/results/dashboard/patchsets/31946/

UNH-IOL DPDK Community Lab

To manage your email subscriptions, visit: 
https://lab.dpdk.org/results/dashboard/preferences/subscriptions/


More information about the test-report mailing list