|WARNING| pw148489 [PATCH] net/ice: add check for null-pointer deref
dpdklab at iol.unh.edu
dpdklab at iol.unh.edu
Sat Nov 16 15:13:17 CET 2024
Test-Label: iol-sample-apps-testing
Test-Status: WARNING
http://dpdk.org/patch/148489
_Testing issues_
Submitter: Bruce Richardson <bruce.richardson at intel.com>
Date: Thursday, November 14 2024 11:35:11
DPDK git baseline: Repo:dpdk
Branch: master
CommitID:c5df7a373ad07413d9652479272cd16adf989b06
148489 --> testing issues
Upstream job id: ACVP-FIPS-testing#7965
Test environment and result as below:
+--------------------+----------------------+----------------------+
| Environment | compressdev_zlib_pmd | dpdk_fips_validation |
+====================+======================+======================+
| Ubuntu 22.04 (ARM) | PASS | SKIPPED |
+--------------------+----------------------+----------------------+
| Ubuntu 22.04 | PASS | SKIPPED |
+--------------------+----------------------+----------------------+
| Ubuntu 20.04 | SKIPPED | WARN |
+--------------------+----------------------+----------------------+
==== 20 line log output for Ubuntu 20.04 (dpdk_fips_validation): ====
[3081/3099] Compiling C object examples/dpdk-fips_validation.p/fips_validation_fips_validation_hmac.c.o
[3082/3099] Compiling C object examples/dpdk-fips_validation.p/fips_validation_fips_validation_cmac.c.o
[3083/3099] Compiling C object examples/dpdk-fips_validation.p/fips_validation_fips_validation_tdes.c.o
[3084/3099] Compiling C object examples/dpdk-fips_validation.p/fips_validation_fips_validation_gcm.c.o
[3085/3099] Compiling C object examples/dpdk-fips_validation.p/fips_validation_fips_validation.c.o
[3086/3099] Compiling C object examples/dpdk-fips_validation.p/fips_validation_fips_validation_sha.c.o
[3087/3099] Compiling C object examples/dpdk-fips_validation.p/fips_validation_fips_validation_ccm.c.o
[3088/3099] Compiling C object examples/dpdk-fips_validation.p/fips_validation_fips_validation_xts.c.o
[3089/3099] Compiling C object examples/dpdk-fips_validation.p/fips_validation_fips_validation_rsa.c.o
[3090/3099] Compiling C object examples/dpdk-fips_validation.p/fips_validation_fips_validation_ecdsa.c.o
[3091/3099] Compiling C object examples/dpdk-fips_validation.p/fips_validation_fips_validation_eddsa.c.o
[3092/3099] Compiling C object examples/dpdk-fips_validation.p/fips_validation_fips_dev_self_test.c.o
[3093/3099] Compiling C object app/dpdk-test.p/test_virtual_pmd.c.o
[3094/3099] Compiling C object examples/dpdk-fips_validation.p/fips_validation_main.c.o
[3095/3099] Linking target examples/dpdk-fips_validation
[3096/3099] Compiling C object app/dpdk-test.p/test_test_trace_perf.c.o
[3097/3099] Compiling C object app/dpdk-test.p/test_test_ring_perf.c.o
[3098/3099] Compiling C object app/dpdk-test.p/test_test_ring.c.o
[3099/3099] Linking target app/dpdk-test
Processing file ../out/acvp-aes-cbc-vectors.json... Processing file ../out/cmac-aes-vectors.json... Processing file ../out/acvp-aes-gmac-vectors.json... Processing file ../out/hmac-sha-1-vectors.json... Processing file ../out/acvp-tdes-cbc-vectors.json... Processing file ../out/acvp-aes-ctr-vectors.json...
==== End log output ====
Ubuntu 22.04 (ARM)
Kernel: 5.15.0-97-generic
Compiler: gcc gcc (Ubuntu 11.4.0-1ubuntu1~22.04) 11.4.0
Ubuntu 22.04
Kernel: 5.15.0-100-generic
Compiler: gcc gcc (Ubuntu 11.4.0-1ubuntu1~22.04) 11.4.0
Ubuntu 20.04
Kernel: Depends on container host
Compiler: gcc (Ubuntu 9.4.0-1ubuntu1~20.04.2) 9.4.0
To view detailed results, visit:
https://lab.dpdk.org/results/dashboard/patchsets/31936/
UNH-IOL DPDK Community Lab
To manage your email subscriptions, visit:
https://lab.dpdk.org/results/dashboard/preferences/subscriptions/
More information about the test-report
mailing list