|WARNING| pw148481-148485 [PATCH] [v5,5/5] raw/gdtc: add support for

dpdklab at iol.unh.edu dpdklab at iol.unh.edu
Sat Nov 16 16:55:34 CET 2024


Test-Label: iol-sample-apps-testing
Test-Status: WARNING
http://dpdk.org/patch/148485

_Testing issues_

Submitter: Yong Zhang <zhang.yong25 at zte.com.cn>
Date: Thursday, November 14 2024 09:20:16 
DPDK git baseline: Repo:dpdk
  Branch: master
  CommitID:78383e9816a8efe2ba16ec2ce65d51b94e6114e7

148481-148485 --> testing issues

Upstream job id: ACVP-FIPS-testing#7970

Test environment and result as below:

+--------------------+----------------------+----------------------+
|    Environment     | compressdev_zlib_pmd | dpdk_fips_validation |
+====================+======================+======================+
| Ubuntu 22.04 (ARM) | PASS                 | SKIPPED              |
+--------------------+----------------------+----------------------+
| Ubuntu 22.04       | PASS                 | SKIPPED              |
+--------------------+----------------------+----------------------+
| Ubuntu 20.04       | SKIPPED              | WARN                 |
+--------------------+----------------------+----------------------+

==== 20 line log output for Ubuntu 20.04 (dpdk_fips_validation): ====
[3088/3106] Compiling C object examples/dpdk-fips_validation.p/fips_validation_fips_validation_cmac.c.o
[3089/3106] Compiling C object examples/dpdk-fips_validation.p/fips_validation_fips_validation_sha.c.o
[3090/3106] Compiling C object examples/dpdk-fips_validation.p/fips_validation_fips_validation_tdes.c.o
[3091/3106] Compiling C object examples/dpdk-fips_validation.p/fips_validation_fips_validation_xts.c.o
[3092/3106] Compiling C object examples/dpdk-fips_validation.p/fips_validation_fips_validation_ccm.c.o
[3093/3106] Compiling C object examples/dpdk-fips_validation.p/fips_validation_fips_validation_ecdsa.c.o
[3094/3106] Compiling C object examples/dpdk-fips_validation.p/fips_validation_fips_validation.c.o
[3095/3106] Compiling C object examples/dpdk-fips_validation.p/fips_validation_fips_validation_eddsa.c.o
[3096/3106] Compiling C object app/dpdk-test.p/test_test_memcpy_perf.c.o
[3097/3106] Compiling C object examples/dpdk-fips_validation.p/fips_validation_fips_validation_rsa.c.o
[3098/3106] Compiling C object app/dpdk-test.p/test_test_table_combined.c.o
[3099/3106] Compiling C object examples/dpdk-fips_validation.p/fips_validation_fips_dev_self_test.c.o
[3100/3106] Compiling C object app/dpdk-test.p/test_virtual_pmd.c.o
[3101/3106] Compiling C object examples/dpdk-fips_validation.p/fips_validation_main.c.o
[3102/3106] Linking target examples/dpdk-fips_validation
[3103/3106] Compiling C object app/dpdk-test.p/test_test_trace_perf.c.o
[3104/3106] Compiling C object app/dpdk-test.p/test_test_ring_perf.c.o
[3105/3106] Compiling C object app/dpdk-test.p/test_test_ring.c.o
[3106/3106] Linking target app/dpdk-test
Processing file ../out/acvp-aes-cbc-vectors.json... Processing file ../out/cmac-aes-vectors.json... Processing file ../out/acvp-aes-gmac-vectors.json... Processing file ../out/hmac-sha-1-vectors.json... Processing file ../out/acvp-tdes-cbc-vectors.json... Processing file ../out/acvp-aes-ctr-vectors.json...
==== End log output ====

Ubuntu 22.04 (ARM)
	Kernel: 5.15.0-97-generic
	Compiler: gcc gcc (Ubuntu 11.4.0-1ubuntu1~22.04) 11.4.0

Ubuntu 22.04
	Kernel: 5.15.0-100-generic
	Compiler: gcc gcc (Ubuntu 11.4.0-1ubuntu1~22.04) 11.4.0

Ubuntu 20.04
	Kernel: Depends on container host
	Compiler: gcc (Ubuntu 9.4.0-1ubuntu1~20.04.2) 9.4.0

To view detailed results, visit:
https://lab.dpdk.org/results/dashboard/patchsets/31933/

UNH-IOL DPDK Community Lab

To manage your email subscriptions, visit: 
https://lab.dpdk.org/results/dashboard/preferences/subscriptions/


More information about the test-report mailing list