|WARNING| [GIT MASTER] e8eb14e00d56027bef8569d68cf00e39670edca2
dpdklab at iol.unh.edu
dpdklab at iol.unh.edu
Sat Nov 16 19:47:04 CET 2024
_Testing issues_
Branch: tags/v23.11
e8eb14e00d56027bef8569d68cf00e39670edca2 --> testing issues
Upstream job id: ACVP-FIPS-testing#7979
Test environment and result as below:
+--------------------+----------------------+----------------------+
| Environment | compressdev_zlib_pmd | dpdk_fips_validation |
+====================+======================+======================+
| Ubuntu 22.04 (ARM) | PASS | SKIPPED |
+--------------------+----------------------+----------------------+
| Ubuntu 22.04 | PASS | SKIPPED |
+--------------------+----------------------+----------------------+
| Ubuntu 20.04 | SKIPPED | WARN |
+--------------------+----------------------+----------------------+
==== 20 line log output for Ubuntu 20.04 (dpdk_fips_validation): ====
[2794/2812] Compiling C object 'examples/c590b3c@@dpdk-fips_validation at exe/fips_validation_fips_validation_cmac.c.o'.
[2795/2812] Compiling C object 'examples/c590b3c@@dpdk-fips_validation at exe/fips_validation_fips_validation_aes.c.o'.
[2796/2812] Compiling C object 'examples/c590b3c@@dpdk-fips_validation at exe/fips_validation_fips_validation_hmac.c.o'.
[2797/2812] Compiling C object 'examples/c590b3c@@dpdk-fips_validation at exe/fips_validation_fips_validation_gcm.c.o'.
[2798/2812] Compiling C object 'examples/c590b3c@@dpdk-fips_validation at exe/fips_validation_fips_validation_xts.c.o'.
[2799/2812] Compiling C object 'examples/c590b3c@@dpdk-fips_validation at exe/fips_validation_fips_validation_sha.c.o'.
[2800/2812] Compiling C object 'examples/c590b3c@@dpdk-fips_validation at exe/fips_validation_fips_validation.c.o'.
[2801/2812] Compiling C object 'examples/c590b3c@@dpdk-fips_validation at exe/fips_validation_fips_validation_ccm.c.o'.
[2802/2812] Compiling C object 'examples/c590b3c@@dpdk-fips_validation at exe/fips_validation_fips_validation_tdes.c.o'.
[2803/2812] Compiling C object 'app/a172ced@@dpdk-test at exe/test_test_table_combined.c.o'.
[2804/2812] Compiling C object 'examples/c590b3c@@dpdk-fips_validation at exe/fips_validation_fips_validation_rsa.c.o'.
[2805/2812] Compiling C object 'examples/c590b3c@@dpdk-fips_validation at exe/fips_validation_fips_validation_ecdsa.c.o'.
[2806/2812] Compiling C object 'examples/c590b3c@@dpdk-fips_validation at exe/fips_validation_fips_dev_self_test.c.o'.
[2807/2812] Compiling C object 'examples/c590b3c@@dpdk-fips_validation at exe/fips_validation_main.c.o'.
[2808/2812] Linking target examples/dpdk-fips_validation.
[2809/2812] Compiling C object 'app/a172ced@@dpdk-test at exe/test_test_trace_perf.c.o'.
[2810/2812] Compiling C object 'app/a172ced@@dpdk-test at exe/test_test_ring_perf.c.o'.
[2811/2812] Compiling C object 'app/a172ced@@dpdk-test at exe/test_test_ring.c.o'.
[2812/2812] Linking target app/dpdk-test.
Processing file ../out/acvp-aes-cbc-vectors.json... Processing file ../out/cmac-aes-vectors.json... Processing file ../out/acvp-aes-gmac-vectors.json... Processing file ../out/hmac-sha-1-vectors.json... Processing file ../out/acvp-tdes-cbc-vectors.json... Processing file ../out/acvp-aes-ctr-vectors.json...
==== End log output ====
Ubuntu 22.04 (ARM)
Kernel: 5.15.0-97-generic
Compiler: gcc gcc (Ubuntu 11.4.0-1ubuntu1~22.04) 11.4.0
Ubuntu 22.04
Kernel: 5.15.0-100-generic
Compiler: gcc gcc (Ubuntu 11.4.0-1ubuntu1~22.04) 11.4.0
Ubuntu 20.04
Kernel: Depends on container host
Compiler: gcc (Ubuntu 9.4.0-1ubuntu1~20.04.2) 9.4.0
To view detailed results, visit:
https://lab.dpdk.org/results/dashboard/tarballs/31563/
UNH-IOL DPDK Community Lab
To manage your email subscriptions, visit:
https://lab.dpdk.org/results/dashboard/preferences/subscriptions/
More information about the test-report
mailing list