|WARNING| pw148412-148413 [PATCH] [2/2] examples/l2fwd-event: fix sp

dpdklab at iol.unh.edu dpdklab at iol.unh.edu
Sat Nov 16 22:41:08 CET 2024


Test-Label: iol-sample-apps-testing
Test-Status: WARNING
http://dpdk.org/patch/148413

_Testing issues_

Submitter: Hemant Agrawal <hemant.agrawal at nxp.com>
Date: Wednesday, November 13 2024 16:14:55 
DPDK git baseline: Repo:dpdk
  Branch: master
  CommitID:012b02bdbc95a5ec3b293f2d37d8955140fd8831

148412-148413 --> testing issues

Upstream job id: ACVP-FIPS-testing#7988

Test environment and result as below:

+--------------------+----------------------+----------------------+
|    Environment     | compressdev_zlib_pmd | dpdk_fips_validation |
+====================+======================+======================+
| Ubuntu 22.04 (ARM) | PASS                 | SKIPPED              |
+--------------------+----------------------+----------------------+
| Ubuntu 22.04       | PASS                 | SKIPPED              |
+--------------------+----------------------+----------------------+
| Ubuntu 20.04       | SKIPPED              | WARN                 |
+--------------------+----------------------+----------------------+

==== 20 line log output for Ubuntu 20.04 (dpdk_fips_validation): ====
[2997/3015] Compiling C object examples/dpdk-fips_validation.p/fips_validation_fips_validation_gcm.c.o
[2998/3015] Compiling C object examples/dpdk-fips_validation.p/fips_validation_fips_validation_sha.c.o
[2999/3015] Compiling C object examples/dpdk-fips_validation.p/fips_validation_fips_validation_tdes.c.o
[3000/3015] Compiling C object app/dpdk-test.p/test_test_table_combined.c.o
[3001/3015] Compiling C object examples/dpdk-fips_validation.p/fips_validation_fips_validation_ccm.c.o
[3002/3015] Compiling C object examples/dpdk-fips_validation.p/fips_validation_fips_validation.c.o
[3003/3015] Compiling C object app/dpdk-test.p/test_test_memcpy_perf.c.o
[3004/3015] Compiling C object examples/dpdk-fips_validation.p/fips_validation_fips_validation_xts.c.o
[3005/3015] Compiling C object examples/dpdk-fips_validation.p/fips_validation_fips_validation_eddsa.c.o
[3006/3015] Compiling C object examples/dpdk-fips_validation.p/fips_validation_fips_validation_ecdsa.c.o
[3007/3015] Compiling C object examples/dpdk-fips_validation.p/fips_validation_fips_validation_rsa.c.o
[3008/3015] Compiling C object examples/dpdk-fips_validation.p/fips_validation_fips_dev_self_test.c.o
[3009/3015] Compiling C object app/dpdk-test.p/test_virtual_pmd.c.o
[3010/3015] Compiling C object examples/dpdk-fips_validation.p/fips_validation_main.c.o
[3011/3015] Linking target examples/dpdk-fips_validation
[3012/3015] Compiling C object app/dpdk-test.p/test_test_trace_perf.c.o
[3013/3015] Compiling C object app/dpdk-test.p/test_test_ring_perf.c.o
[3014/3015] Compiling C object app/dpdk-test.p/test_test_ring.c.o
[3015/3015] Linking target app/dpdk-test
Processing file ../out/acvp-aes-cbc-vectors.json... Processing file ../out/cmac-aes-vectors.json... Processing file ../out/acvp-aes-gmac-vectors.json... Processing file ../out/hmac-sha-1-vectors.json... Processing file ../out/acvp-tdes-cbc-vectors.json... Processing file ../out/acvp-aes-ctr-vectors.json...
==== End log output ====

Ubuntu 22.04 (ARM)
	Kernel: 5.15.0-97-generic
	Compiler: gcc gcc (Ubuntu 11.4.0-1ubuntu1~22.04) 11.4.0

Ubuntu 22.04
	Kernel: 5.15.0-100-generic
	Compiler: gcc gcc (Ubuntu 11.4.0-1ubuntu1~22.04) 11.4.0

Ubuntu 20.04
	Kernel: Depends on container host
	Compiler: gcc (Ubuntu 9.4.0-1ubuntu1~20.04.2) 9.4.0

To view detailed results, visit:
https://lab.dpdk.org/results/dashboard/patchsets/31911/

UNH-IOL DPDK Community Lab

To manage your email subscriptions, visit: 
https://lab.dpdk.org/results/dashboard/preferences/subscriptions/


More information about the test-report mailing list