|SUCCESS| pw148567 [PATCH] [RFC] Revert "vhost: use imported VDUSE u

dpdklab at iol.unh.edu dpdklab at iol.unh.edu
Sun Nov 17 19:56:37 CET 2024


Test-Label: iol-sample-apps-testing
Test-Status: SUCCESS
http://dpdk.org/patch/148567

_Testing PASS_

Submitter: Stephen Hemminger <stephen at networkplumber.org>
Date: Sunday, November 17 2024 17:32:08 
DPDK git baseline: Repo:dpdk
  Branch: master
  CommitID:e387fc3d3cc8936c2c55dc98249f35338060f5d6

148567 --> testing pass

Upstream job id: ACVP-FIPS-testing#8009

Test environment and result as below:

+--------------------+----------------------+----------------------+
|    Environment     | compressdev_zlib_pmd | dpdk_fips_validation |
+====================+======================+======================+
| Ubuntu 22.04 (ARM) | PASS                 | SKIPPED              |
+--------------------+----------------------+----------------------+
| Ubuntu 22.04       | PASS                 | SKIPPED              |
+--------------------+----------------------+----------------------+
| Ubuntu 20.04       | SKIPPED              | PASS                 |
+--------------------+----------------------+----------------------+


Ubuntu 22.04 (ARM)
	Kernel: 5.15.0-97-generic
	Compiler: gcc gcc (Ubuntu 11.4.0-1ubuntu1~22.04) 11.4.0

Ubuntu 22.04
	Kernel: 5.15.0-100-generic
	Compiler: gcc gcc (Ubuntu 11.4.0-1ubuntu1~22.04) 11.4.0

Ubuntu 20.04
	Kernel: Depends on container host
	Compiler: gcc (Ubuntu 9.4.0-1ubuntu1~20.04.2) 9.4.0

To view detailed results, visit:
https://lab.dpdk.org/results/dashboard/patchsets/31954/

UNH-IOL DPDK Community Lab

To manage your email subscriptions, visit: 
https://lab.dpdk.org/results/dashboard/preferences/subscriptions/


More information about the test-report mailing list