|SUCCESS| pw148580 [PATCH] vhost: fix read vs write lock mismatch
dpdklab at iol.unh.edu
dpdklab at iol.unh.edu
Mon Nov 18 19:20:21 CET 2024
Test-Label: iol-sample-apps-testing
Test-Status: SUCCESS
http://dpdk.org/patch/148580
_Testing PASS_
Submitter: Stephen Hemminger <stephen at networkplumber.org>
Date: Monday, November 18 2024 16:24:24
DPDK git baseline: Repo:dpdk
Branch: master
CommitID:07e3bebf3c93750c52ed9be87edd212fbc22da0a
148580 --> testing pass
Upstream job id: Template-DTS-Pipeline#197245
Test environment and result as below:
+--------------------+----------------------+----------------------+
| Environment | dpdk_fips_validation | compressdev_zlib_pmd |
+====================+======================+======================+
| Ubuntu 20.04 | PASS | SKIPPED |
+--------------------+----------------------+----------------------+
| Ubuntu 22.04 (ARM) | SKIPPED | PASS |
+--------------------+----------------------+----------------------+
| Ubuntu 22.04 | SKIPPED | PASS |
+--------------------+----------------------+----------------------+
Ubuntu 20.04
Kernel: Depends on container host
Compiler: gcc (Ubuntu 9.4.0-1ubuntu1~20.04.2) 9.4.0
Ubuntu 22.04 (ARM)
Kernel: 5.15.0-97-generic
Compiler: gcc gcc (Ubuntu 11.4.0-1ubuntu1~22.04) 11.4.0
Ubuntu 22.04
Kernel: 5.15.0-100-generic
Compiler: gcc gcc (Ubuntu 11.4.0-1ubuntu1~22.04) 11.4.0
To view detailed results, visit:
https://lab.dpdk.org/results/dashboard/patchsets/31960/
UNH-IOL DPDK Community Lab
To manage your email subscriptions, visit:
https://lab.dpdk.org/results/dashboard/preferences/subscriptions/
More information about the test-report
mailing list