|SUCCESS| pw148577-148584 [PATCH] [v1,4/4] net/bnxt/tf_ulp: update t

dpdklab at iol.unh.edu dpdklab at iol.unh.edu
Mon Nov 18 20:57:57 CET 2024


Test-Label: iol-unit-arm64-testing
Test-Status: SUCCESS
http://dpdk.org/patch/148584

_Testing PASS_

Submitter: Sriharsha Basavapatna <sriharsha.basavapatna at broadcom.com>
Date: Monday, November 18 2024 16:18:58 
DPDK git baseline: Repo:dpdk
  Branch: master
  CommitID:07e3bebf3c93750c52ed9be87edd212fbc22da0a

148577-148584 --> testing pass

Upstream job id: Generic-Unit-Test-DPDK#292714

Test environment and result as below:

+-----------------------------+---------------------------+--------------+----------------+------------------------------+
|         Environment         | cryptodev_sw_zuc_autotest | lpm_autotest | dpdk_unit_test | cryptodev_sw_snow3g_autotest |
+=============================+===========================+==============+================+==============================+
| Debian 12 (arm)             | PASS                      | SKIPPED      | PASS           | PASS                         |
+-----------------------------+---------------------------+--------------+----------------+------------------------------+
| Ubuntu 20.04 ARM SVE        | SKIPPED                   | PASS         | SKIPPED        | SKIPPED                      |
+-----------------------------+---------------------------+--------------+----------------+------------------------------+
| CentOS Stream 9 (ARM)       | SKIPPED                   | SKIPPED      | PASS           | SKIPPED                      |
+-----------------------------+---------------------------+--------------+----------------+------------------------------+
| Fedora 39 (ARM)             | SKIPPED                   | SKIPPED      | PASS           | SKIPPED                      |
+-----------------------------+---------------------------+--------------+----------------+------------------------------+
| Fedora 40 (ARM)             | SKIPPED                   | SKIPPED      | PASS           | SKIPPED                      |
+-----------------------------+---------------------------+--------------+----------------+------------------------------+
| Fedora 40 (ARM Clang)       | SKIPPED                   | SKIPPED      | PASS           | SKIPPED                      |
+-----------------------------+---------------------------+--------------+----------------+------------------------------+
| Ubuntu 20.04 (ARM)          | SKIPPED                   | SKIPPED      | PASS           | SKIPPED                      |
+-----------------------------+---------------------------+--------------+----------------+------------------------------+
| Ubuntu 22.04 (ARM)          | SKIPPED                   | SKIPPED      | PASS           | SKIPPED                      |
+-----------------------------+---------------------------+--------------+----------------+------------------------------+
| Ubuntu 24.04 (ARM)          | SKIPPED                   | SKIPPED      | PASS           | SKIPPED                      |
+-----------------------------+---------------------------+--------------+----------------+------------------------------+
| Fedora 39 (ARM Clang)       | SKIPPED                   | SKIPPED      | PASS           | SKIPPED                      |
+-----------------------------+---------------------------+--------------+----------------+------------------------------+
| RHEL9 (ARM)                 | SKIPPED                   | SKIPPED      | PASS           | SKIPPED                      |
+-----------------------------+---------------------------+--------------+----------------+------------------------------+
| 32-bit Ubuntu 22.04.4 (ARM) | SKIPPED                   | SKIPPED      | PASS           | SKIPPED                      |
+-----------------------------+---------------------------+--------------+----------------+------------------------------+


Debian 12 (arm)
	Kernel: Depends on container host
	Compiler: gcc (Debian 12.2.0-14) 12.2.0

Ubuntu 20.04 ARM SVE
	Kernel: Depends on container host
	Compiler: gcc (Ubuntu 10.5.0-1ubuntu1~20.04) 10.5.0

CentOS Stream 9 (ARM)
	Kernel: Depends on container host
	Compiler: gcc 11.4.1 20231218 (Red Hat 11.4.1-3)

Fedora 39 (ARM)
	Kernel: Depends on container host
	Compiler: gcc 13.3.1 20240522 (Red Hat 13.3.1-1)

Fedora 40 (ARM)
	Kernel: Depends on container host
	Compiler: gcc 14.2.1 20240801 (Red Hat 14.2.1-1)

Fedora 40 (ARM Clang)
	Kernel: Depends on container host
	Compiler: clang 18.1.6 (Fedora 18.1.6-3.fc40)

Ubuntu 20.04 (ARM)
	Kernel: Depends on container host
	Compiler: gcc (Ubuntu 9.4.0-1ubuntu1~20.04.2) 9.4.0

Ubuntu 22.04 (ARM)
	Kernel: Depends on container host
	Compiler: gcc (Ubuntu 11.4.0-1ubuntu1~22.04) 11.4.0

Ubuntu 24.04 (ARM)
	Kernel: Depends on container host
	Compiler: gcc (Ubuntu 13.2.0-23ubuntu4) 13.2.0

Fedora 39 (ARM Clang)
	Kernel: Depends on container host
	Compiler: clang 17.0.6 (Fedora 17.0.6-2.fc39)

RHEL9 (ARM)
	Kernel: Depends on container host
	Compiler: gcc 11.4.1 20231218 (Red Hat 11.4.1-3)

32-bit Ubuntu 22.04.4 (ARM)
	Kernel: 5.15.83+ aarch64
	Compiler: gcc (Ubuntu 11.4.0-1ubuntu1~22.04) 11.4.0

To view detailed results, visit:
https://lab.dpdk.org/results/dashboard/patchsets/31959/

UNH-IOL DPDK Community Lab

To manage your email subscriptions, visit: 
https://lab.dpdk.org/results/dashboard/preferences/subscriptions/


More information about the test-report mailing list