|SUCCESS| [GIT MASTER] 07e3bebf3c93750c52ed9be87edd212fbc22da0a
dpdklab at iol.unh.edu
dpdklab at iol.unh.edu
Tue Nov 19 09:56:27 CET 2024
_Testing PASS_
Branch: dpdk-next-virtio
07e3bebf3c93750c52ed9be87edd212fbc22da0a --> testing pass
Upstream job id: Windows-Compile-DPDK-VS#4141
Test environment and result as below:
+---------------------+--------------------+-------------------+
| Environment | dpdk_meson_compile | dpdk_msvc_compile |
+=====================+====================+===================+
| FreeBSD 13.4 | PASS | SKIPPED |
+---------------------+--------------------+-------------------+
| FreeBSD 14.1 | PASS | SKIPPED |
+---------------------+--------------------+-------------------+
| Windows Server 2022 | SKIPPED | PASS |
+---------------------+--------------------+-------------------+
FreeBSD 13.4
Kernel: 13.4-RELEASE-p1
Compiler: clang 18.1.6
FreeBSD 14.1
Kernel: 14.1-RELEASE-p3
Compiler: clang 18.1.5
Windows Server 2022
Kernel: 10.0.20348.2031
Compiler: clang 15.0.7, gcc 14.1.0 (MinGW), and MSVC VS 19.39.33521
To view detailed results, visit:
https://lab.dpdk.org/results/dashboard/tarballs/31634/
UNH-IOL DPDK Community Lab
To manage your email subscriptions, visit:
https://lab.dpdk.org/results/dashboard/preferences/subscriptions/
More information about the test-report
mailing list