|SUCCESS| pw148630-148633 [PATCH] [v2,5/5] net/bnxt/tf_ulp: fix cove

dpdklab at iol.unh.edu dpdklab at iol.unh.edu
Tue Nov 19 12:51:42 CET 2024


Test-Label: iol-unit-arm64-testing
Test-Status: SUCCESS
http://dpdk.org/patch/148633

_Testing PASS_

Submitter: Sriharsha Basavapatna <sriharsha.basavapatna at broadcom.com>
Date: Tuesday, November 19 2024 05:45:50 
DPDK git baseline: Repo:dpdk
  Branch: master
  CommitID:5d5dcd8492f8b2863a2de0f5bad223df27749c09

148630-148633 --> testing pass

Upstream job id: Generic-Unit-Test-DPDK#292981

Test environment and result as below:

+-----------------------+----------------+
|      Environment      | dpdk_unit_test |
+=======================+================+
| CentOS Stream 9 (ARM) | PASS           |
+-----------------------+----------------+
| Fedora 39 (ARM)       | PASS           |
+-----------------------+----------------+
| Debian 12 (arm)       | PASS           |
+-----------------------+----------------+
| Fedora 40 (ARM)       | PASS           |
+-----------------------+----------------+
| Fedora 39 (ARM Clang) | PASS           |
+-----------------------+----------------+
| RHEL9 (ARM)           | PASS           |
+-----------------------+----------------+
| Fedora 40 (ARM Clang) | PASS           |
+-----------------------+----------------+
| Ubuntu 20.04 (ARM)    | PASS           |
+-----------------------+----------------+
| Ubuntu 22.04 (ARM)    | PASS           |
+-----------------------+----------------+
| Ubuntu 24.04 (ARM)    | PASS           |
+-----------------------+----------------+


CentOS Stream 9 (ARM)
	Kernel: Depends on container host
	Compiler: gcc 11.4.1 20231218 (Red Hat 11.4.1-3)

Fedora 39 (ARM)
	Kernel: Depends on container host
	Compiler: gcc 13.3.1 20240522 (Red Hat 13.3.1-1)

Debian 12 (arm)
	Kernel: Depends on container host
	Compiler: gcc (Debian 12.2.0-14) 12.2.0

Fedora 40 (ARM)
	Kernel: Depends on container host
	Compiler: gcc 14.2.1 20240801 (Red Hat 14.2.1-1)

Fedora 39 (ARM Clang)
	Kernel: Depends on container host
	Compiler: clang 17.0.6 (Fedora 17.0.6-2.fc39)

RHEL9 (ARM)
	Kernel: Depends on container host
	Compiler: gcc 11.4.1 20231218 (Red Hat 11.4.1-3)

Fedora 40 (ARM Clang)
	Kernel: Depends on container host
	Compiler: clang 18.1.6 (Fedora 18.1.6-3.fc40)

Ubuntu 20.04 (ARM)
	Kernel: Depends on container host
	Compiler: gcc (Ubuntu 9.4.0-1ubuntu1~20.04.2) 9.4.0

Ubuntu 22.04 (ARM)
	Kernel: Depends on container host
	Compiler: gcc (Ubuntu 11.4.0-1ubuntu1~22.04) 11.4.0

Ubuntu 24.04 (ARM)
	Kernel: Depends on container host
	Compiler: gcc (Ubuntu 13.2.0-23ubuntu4) 13.2.0

To view detailed results, visit:
https://lab.dpdk.org/results/dashboard/patchsets/31970/

UNH-IOL DPDK Community Lab

To manage your email subscriptions, visit: 
https://lab.dpdk.org/results/dashboard/preferences/subscriptions/


More information about the test-report mailing list