|SUCCESS| pw148818 [PATCH] [v1,1/1] net/ixgbe: fix PTP initializatio
dpdklab at iol.unh.edu
dpdklab at iol.unh.edu
Fri Nov 22 18:19:04 CET 2024
Test-Label: iol-sample-apps-testing
Test-Status: SUCCESS
http://dpdk.org/patch/148818
_Testing PASS_
Submitter: Anatoly Burakov <anatoly.burakov at intel.com>
Date: Friday, November 22 2024 15:16:59
DPDK git baseline: Repo:dpdk
Branch: master
CommitID:f4ccce58c1a33cb41e1e820da504698437987efc
148818 --> testing pass
Upstream job id: Template-DTS-Pipeline#198351
Test environment and result as below:
+--------------------+----------------------+----------------------+
| Environment | compressdev_zlib_pmd | dpdk_fips_validation |
+====================+======================+======================+
| Ubuntu 22.04 (ARM) | PASS | SKIPPED |
+--------------------+----------------------+----------------------+
| Ubuntu 22.04 | PASS | SKIPPED |
+--------------------+----------------------+----------------------+
| Ubuntu 20.04 | SKIPPED | PASS |
+--------------------+----------------------+----------------------+
Ubuntu 22.04 (ARM)
Kernel: 5.15.0-97-generic
Compiler: gcc gcc (Ubuntu 11.4.0-1ubuntu1~22.04) 11.4.0
Ubuntu 22.04
Kernel: 5.15.0-100-generic
Compiler: gcc gcc (Ubuntu 11.4.0-1ubuntu1~22.04) 11.4.0
Ubuntu 20.04
Kernel: Depends on container host
Compiler: gcc (Ubuntu 9.4.0-1ubuntu1~20.04.2) 9.4.0
To view detailed results, visit:
https://lab.dpdk.org/results/dashboard/patchsets/31998/
UNH-IOL DPDK Community Lab
To manage your email subscriptions, visit:
https://lab.dpdk.org/results/dashboard/preferences/subscriptions/
More information about the test-report
mailing list