|SUCCESS| pw148831 [PATCH] [v1] net/ice: updated latest recommended
dpdklab at iol.unh.edu
dpdklab at iol.unh.edu
Mon Nov 25 16:06:05 CET 2024
Test-Label: iol-unit-arm64-testing
Test-Status: SUCCESS
http://dpdk.org/patch/148831
_Testing PASS_
Submitter: hailinx <hailinx.xu at intel.com>
Date: Monday, November 25 2024 02:52:20
DPDK git baseline: Repo:dpdk
Branch: master
CommitID:f4ccce58c1a33cb41e1e820da504698437987efc
148831 --> testing pass
Upstream job id: Generic-Unit-Test-DPDK#294653
Test environment and result as below:
+----------------------+--------------+---------------------------+------------------------------+
| Environment | lpm_autotest | cryptodev_sw_zuc_autotest | cryptodev_sw_snow3g_autotest |
+======================+==============+===========================+==============================+
| Ubuntu 20.04 ARM SVE | PASS | SKIPPED | SKIPPED |
+----------------------+--------------+---------------------------+------------------------------+
| Debian 12 (arm) | SKIPPED | PASS | PASS |
+----------------------+--------------+---------------------------+------------------------------+
Ubuntu 20.04 ARM SVE
Kernel: Depends on container host
Compiler: gcc (Ubuntu 10.5.0-1ubuntu1~20.04) 10.5.0
Debian 12 (arm)
Kernel: Depends on container host
Compiler: gcc (Debian 12.2.0-14) 12.2.0
To view detailed results, visit:
https://lab.dpdk.org/results/dashboard/patchsets/32007/
UNH-IOL DPDK Community Lab
To manage your email subscriptions, visit:
https://lab.dpdk.org/results/dashboard/preferences/subscriptions/
More information about the test-report
mailing list