|WARNING| pw148831 [PATCH] [v1] net/ice: updated latest recommended

dpdklab at iol.unh.edu dpdklab at iol.unh.edu
Tue Nov 26 01:21:57 CET 2024


Test-Label: iol-sample-apps-testing
Test-Status: WARNING
http://dpdk.org/patch/148831

_Testing issues_

Submitter: hailinx <hailinx.xu at intel.com>
Date: Monday, November 25 2024 02:52:20 
DPDK git baseline: Repo:dpdk
  Branch: master
  CommitID:f4ccce58c1a33cb41e1e820da504698437987efc

148831 --> testing issues

Upstream job id: ACVP-FIPS-testing#8099

Test environment and result as below:

+--------------------+----------------------+----------------------+
|    Environment     | compressdev_zlib_pmd | dpdk_fips_validation |
+====================+======================+======================+
| Ubuntu 22.04 (ARM) | PASS                 | SKIPPED              |
+--------------------+----------------------+----------------------+
| Ubuntu 22.04       | PASS                 | SKIPPED              |
+--------------------+----------------------+----------------------+
| Ubuntu 20.04       | SKIPPED              | WARN                 |
+--------------------+----------------------+----------------------+

==== 20 line log output for Ubuntu 20.04 (dpdk_fips_validation): ====
[3150/3163] Compiling C object examples/dpdk-fips_validation.p/fips_validation_fips_validation_xts.c.o
[3151/3163] Compiling C object app/dpdk-test.p/test_test_timer_secondary.c.o
[3152/3163] Compiling C object examples/dpdk-fips_validation.p/fips_validation_fips_validation_rsa.c.o
[3153/3163] Compiling C object examples/dpdk-fips_validation.p/fips_validation_fips_validation_eddsa.c.o
[3154/3163] Compiling C object examples/dpdk-fips_validation.p/fips_validation_fips_validation_ecdsa.c.o
[3155/3163] Compiling C object examples/dpdk-fips_validation.p/fips_validation_fips_dev_self_test.c.o
[3156/3163] Compiling C object app/dpdk-test.p/test_test_table_combined.c.o
[3157/3163] Compiling C object examples/dpdk-fips_validation.p/fips_validation_main.c.o
[3158/3163] Compiling C object app/dpdk-test.p/test_virtual_pmd.c.o
[3159/3163] Linking target examples/dpdk-fips_validation
[3160/3163] Compiling C object app/dpdk-test.p/test_test_trace_perf.c.o
[3161/3163] Compiling C object app/dpdk-test.p/test_test_ring_perf.c.o
[3162/3163] Compiling C object app/dpdk-test.p/test_test_ring.c.o
[3163/3163] Linking target app/dpdk-test
Processing file ../out/acvp-aes-cbc-vectors.json... Done
Processing file ../out/cmac-aes-vectors.json... Done
Processing file ../out/acvp-aes-gmac-vectors.json... Done
Processing file ../out/hmac-sha-1-vectors.json... Done
Processing file ../out/acvp-tdes-cbc-vectors.json... Done
Processing file ../out/acvp-aes-ctr-vectors.json... Done
==== End log output ====

Ubuntu 22.04 (ARM)
	Kernel: 5.15.0-97-generic
	Compiler: gcc gcc (Ubuntu 11.4.0-1ubuntu1~22.04) 11.4.0

Ubuntu 22.04
	Kernel: 5.15.0-100-generic
	Compiler: gcc gcc (Ubuntu 11.4.0-1ubuntu1~22.04) 11.4.0

Ubuntu 20.04
	Kernel: Depends on container host
	Compiler: gcc (Ubuntu 9.4.0-1ubuntu1~20.04.2) 9.4.0

To view detailed results, visit:
https://lab.dpdk.org/results/dashboard/patchsets/32007/

UNH-IOL DPDK Community Lab

To manage your email subscriptions, visit: 
https://lab.dpdk.org/results/dashboard/preferences/subscriptions/


More information about the test-report mailing list