|SUCCESS| pw148841 [PATCH] net/mlx5: fix Rx queue control deref

dpdklab at iol.unh.edu dpdklab at iol.unh.edu
Tue Nov 26 05:55:58 CET 2024


Test-Label: iol-sample-apps-testing
Test-Status: SUCCESS
http://dpdk.org/patch/148841

_Testing PASS_

Submitter: Bing Zhao <bingz at nvidia.com>
Date: Monday, November 25 2024 17:23:18 
DPDK git baseline: Repo:dpdk
  Branch: master
  CommitID:37dda90ee15b7098bc48356868a87d34f727eecc

148841 --> testing pass

Upstream job id: ACVP-FIPS-testing#8106

Test environment and result as below:

+--------------------+----------------------+----------------------+
|    Environment     | compressdev_zlib_pmd | dpdk_fips_validation |
+====================+======================+======================+
| Ubuntu 22.04 (ARM) | PASS                 | SKIPPED              |
+--------------------+----------------------+----------------------+
| Ubuntu 22.04       | PASS                 | SKIPPED              |
+--------------------+----------------------+----------------------+
| Ubuntu 20.04       | SKIPPED              | PASS                 |
+--------------------+----------------------+----------------------+


Ubuntu 22.04 (ARM)
	Kernel: 5.15.0-97-generic
	Compiler: gcc gcc (Ubuntu 11.4.0-1ubuntu1~22.04) 11.4.0

Ubuntu 22.04
	Kernel: 5.15.0-100-generic
	Compiler: gcc gcc (Ubuntu 11.4.0-1ubuntu1~22.04) 11.4.0

Ubuntu 20.04
	Kernel: Depends on container host
	Compiler: gcc (Ubuntu 9.4.0-1ubuntu1~20.04.2) 9.4.0

To view detailed results, visit:
https://lab.dpdk.org/results/dashboard/patchsets/32013/

UNH-IOL DPDK Community Lab

To manage your email subscriptions, visit: 
https://lab.dpdk.org/results/dashboard/preferences/subscriptions/


More information about the test-report mailing list