|SUCCESS| [GIT MASTER] 802f39367e08d2916cd21f7b6a34703bc8672a38
dpdklab at iol.unh.edu
dpdklab at iol.unh.edu
Tue Nov 26 07:59:18 CET 2024
_Testing PASS_
Branch: tags/v22.11
802f39367e08d2916cd21f7b6a34703bc8672a38 --> testing pass
Upstream job id: Aarch32-Unit-Test#4445
Test environment and result as below:
+-----------------------------+---------------------------+--------------+------------------------------+----------------+
| Environment | cryptodev_sw_zuc_autotest | lpm_autotest | cryptodev_sw_snow3g_autotest | dpdk_unit_test |
+=============================+===========================+==============+==============================+================+
| Debian 12 (arm) | PASS | SKIPPED | PASS | SKIPPED |
+-----------------------------+---------------------------+--------------+------------------------------+----------------+
| Ubuntu 20.04 ARM SVE | SKIPPED | PASS | SKIPPED | SKIPPED |
+-----------------------------+---------------------------+--------------+------------------------------+----------------+
| 32-bit Ubuntu 22.04.4 (ARM) | SKIPPED | SKIPPED | SKIPPED | PASS |
+-----------------------------+---------------------------+--------------+------------------------------+----------------+
Debian 12 (arm)
Kernel: Depends on container host
Compiler: gcc (Debian 12.2.0-14) 12.2.0
Ubuntu 20.04 ARM SVE
Kernel: Depends on container host
Compiler: gcc (Ubuntu 10.5.0-1ubuntu1~20.04) 10.5.0
32-bit Ubuntu 22.04.4 (ARM)
Kernel: 5.15.83+ aarch64
Compiler: gcc (Ubuntu 11.4.0-1ubuntu1~22.04) 11.4.0
To view detailed results, visit:
https://lab.dpdk.org/results/dashboard/tarballs/31721/
UNH-IOL DPDK Community Lab
To manage your email subscriptions, visit:
https://lab.dpdk.org/results/dashboard/preferences/subscriptions/
More information about the test-report
mailing list