|SUCCESS| pw148854-148861 [PATCH] [v4,8/8] devtools: add script to g
dpdklab at iol.unh.edu
dpdklab at iol.unh.edu
Tue Nov 26 18:04:50 CET 2024
Test-Label: iol-unit-arm64-testing
Test-Status: SUCCESS
http://dpdk.org/patch/148861
_Testing PASS_
Submitter: Burakov, Anatoly <anatoly.burakov at intel.com>
Date: Tuesday, November 26 2024 14:39:53
DPDK git baseline: Repo:dpdk
Branch: master
CommitID:5744e912341ee26a0dd5b9ec28b16b8a4e45d1bc
148854-148861 --> testing pass
Upstream job id: Generic-Unit-Test-DPDK#295102
Test environment and result as below:
+-----------------------------+---------------------------+------------------------------+--------------+----------------+
| Environment | cryptodev_sw_zuc_autotest | cryptodev_sw_snow3g_autotest | lpm_autotest | dpdk_unit_test |
+=============================+===========================+==============================+==============+================+
| Debian 12 (arm) | PASS | PASS | SKIPPED | PASS |
+-----------------------------+---------------------------+------------------------------+--------------+----------------+
| Ubuntu 20.04 ARM SVE | SKIPPED | SKIPPED | PASS | SKIPPED |
+-----------------------------+---------------------------+------------------------------+--------------+----------------+
| Fedora 39 (ARM Clang) | SKIPPED | SKIPPED | SKIPPED | PASS |
+-----------------------------+---------------------------+------------------------------+--------------+----------------+
| CentOS Stream 9 (ARM) | SKIPPED | SKIPPED | SKIPPED | PASS |
+-----------------------------+---------------------------+------------------------------+--------------+----------------+
| Fedora 39 (ARM) | SKIPPED | SKIPPED | SKIPPED | PASS |
+-----------------------------+---------------------------+------------------------------+--------------+----------------+
| Fedora 40 (ARM) | SKIPPED | SKIPPED | SKIPPED | PASS |
+-----------------------------+---------------------------+------------------------------+--------------+----------------+
| Fedora 40 (ARM Clang) | SKIPPED | SKIPPED | SKIPPED | PASS |
+-----------------------------+---------------------------+------------------------------+--------------+----------------+
| Ubuntu 20.04 (ARM) | SKIPPED | SKIPPED | SKIPPED | PASS |
+-----------------------------+---------------------------+------------------------------+--------------+----------------+
| RHEL9 (ARM) | SKIPPED | SKIPPED | SKIPPED | PASS |
+-----------------------------+---------------------------+------------------------------+--------------+----------------+
| Ubuntu 22.04 (ARM) | SKIPPED | SKIPPED | SKIPPED | PASS |
+-----------------------------+---------------------------+------------------------------+--------------+----------------+
| Ubuntu 24.04 (ARM) | SKIPPED | SKIPPED | SKIPPED | PASS |
+-----------------------------+---------------------------+------------------------------+--------------+----------------+
| 32-bit Ubuntu 22.04.4 (ARM) | SKIPPED | SKIPPED | SKIPPED | PASS |
+-----------------------------+---------------------------+------------------------------+--------------+----------------+
Debian 12 (arm)
Kernel: Depends on container host
Compiler: gcc (Debian 12.2.0-14) 12.2.0
Ubuntu 20.04 ARM SVE
Kernel: Depends on container host
Compiler: gcc (Ubuntu 10.5.0-1ubuntu1~20.04) 10.5.0
Fedora 39 (ARM Clang)
Kernel: Depends on container host
Compiler: clang 17.0.6 (Fedora 17.0.6-2.fc39)
CentOS Stream 9 (ARM)
Kernel: Depends on container host
Compiler: gcc 11.4.1 20231218 (Red Hat 11.4.1-3)
Fedora 39 (ARM)
Kernel: Depends on container host
Compiler: gcc 13.3.1 20240522 (Red Hat 13.3.1-1)
Fedora 40 (ARM)
Kernel: Depends on container host
Compiler: gcc 14.2.1 20240801 (Red Hat 14.2.1-1)
Fedora 40 (ARM Clang)
Kernel: Depends on container host
Compiler: clang 18.1.6 (Fedora 18.1.6-3.fc40)
Ubuntu 20.04 (ARM)
Kernel: Depends on container host
Compiler: gcc (Ubuntu 9.4.0-1ubuntu1~20.04.2) 9.4.0
RHEL9 (ARM)
Kernel: Depends on container host
Compiler: gcc 11.4.1 20231218 (Red Hat 11.4.1-3)
Ubuntu 22.04 (ARM)
Kernel: Depends on container host
Compiler: gcc (Ubuntu 11.4.0-1ubuntu1~22.04) 11.4.0
Ubuntu 24.04 (ARM)
Kernel: Depends on container host
Compiler: gcc (Ubuntu 13.2.0-23ubuntu4) 13.2.0
32-bit Ubuntu 22.04.4 (ARM)
Kernel: 5.15.83+ aarch64
Compiler: gcc (Ubuntu 11.4.0-1ubuntu1~22.04) 11.4.0
To view detailed results, visit:
https://lab.dpdk.org/results/dashboard/patchsets/32021/
UNH-IOL DPDK Community Lab
To manage your email subscriptions, visit:
https://lab.dpdk.org/results/dashboard/preferences/subscriptions/
More information about the test-report
mailing list