|SUCCESS| [GIT MASTER] 510b460e02594a70d4ce19e2d29df3ade8af36d7

dpdklab at iol.unh.edu dpdklab at iol.unh.edu
Wed Nov 27 10:13:58 CET 2024


_Testing PASS_

Branch: dpdk-next-virtio

510b460e02594a70d4ce19e2d29df3ade8af36d7 --> testing pass

Upstream job id: Generic-DPDK-Compile-Meson#338561

Test environment and result as below:

+---------------------+-------------------+--------------------+------------------+-------------------+-----------------------+----------------------+
|     Environment     | dpdk_msvc_compile | dpdk_meson_compile | dpdk_compile_ovs | dpdk_compile_spdk | dpdk_win_llvm_compile | dpdk_mingw64_compile |
+=====================+===================+====================+==================+===================+=======================+======================+
| Windows Server 2022 | PASS              | SKIPPED            | SKIPPED          | SKIPPED           | PASS                  | PASS                 |
+---------------------+-------------------+--------------------+------------------+-------------------+-----------------------+----------------------+
| FreeBSD 13.4        | SKIPPED           | PASS               | SKIPPED          | SKIPPED           | SKIPPED               | SKIPPED              |
+---------------------+-------------------+--------------------+------------------+-------------------+-----------------------+----------------------+
| FreeBSD 14.1        | SKIPPED           | PASS               | SKIPPED          | SKIPPED           | SKIPPED               | SKIPPED              |
+---------------------+-------------------+--------------------+------------------+-------------------+-----------------------+----------------------+
| CentOS Stream 9     | SKIPPED           | PASS               | PASS             | PASS              | SKIPPED               | SKIPPED              |
+---------------------+-------------------+--------------------+------------------+-------------------+-----------------------+----------------------+
| Debian 12           | SKIPPED           | PASS               | PASS             | PASS              | SKIPPED               | SKIPPED              |
+---------------------+-------------------+--------------------+------------------+-------------------+-----------------------+----------------------+
| Fedora 39           | SKIPPED           | PASS               | PASS             | PASS              | SKIPPED               | SKIPPED              |
+---------------------+-------------------+--------------------+------------------+-------------------+-----------------------+----------------------+
| Fedora 40 (Clang)   | SKIPPED           | PASS               | PASS             | PASS              | SKIPPED               | SKIPPED              |
+---------------------+-------------------+--------------------+------------------+-------------------+-----------------------+----------------------+
| Fedora 40           | SKIPPED           | PASS               | PASS             | PASS              | SKIPPED               | SKIPPED              |
+---------------------+-------------------+--------------------+------------------+-------------------+-----------------------+----------------------+
| openSUSE Leap 15    | SKIPPED           | PASS               | PASS             | SKIPPED           | SKIPPED               | SKIPPED              |
+---------------------+-------------------+--------------------+------------------+-------------------+-----------------------+----------------------+
| RHEL8               | SKIPPED           | PASS               | PASS             | SKIPPED           | SKIPPED               | SKIPPED              |
+---------------------+-------------------+--------------------+------------------+-------------------+-----------------------+----------------------+
| RHEL9               | SKIPPED           | PASS               | PASS             | SKIPPED           | SKIPPED               | SKIPPED              |
+---------------------+-------------------+--------------------+------------------+-------------------+-----------------------+----------------------+
| Ubuntu 20.04        | SKIPPED           | PASS               | PASS             | SKIPPED           | SKIPPED               | SKIPPED              |
+---------------------+-------------------+--------------------+------------------+-------------------+-----------------------+----------------------+
| Ubuntu 22.04        | SKIPPED           | PASS               | PASS             | PASS              | SKIPPED               | SKIPPED              |
+---------------------+-------------------+--------------------+------------------+-------------------+-----------------------+----------------------+
| Ubuntu 24.04        | SKIPPED           | PASS               | PASS             | PASS              | SKIPPED               | SKIPPED              |
+---------------------+-------------------+--------------------+------------------+-------------------+-----------------------+----------------------+
| Alpine              | SKIPPED           | PASS               | PASS             | SKIPPED           | SKIPPED               | SKIPPED              |
+---------------------+-------------------+--------------------+------------------+-------------------+-----------------------+----------------------+
| Fedora 39 (Clang)   | SKIPPED           | PASS               | PASS             | PASS              | SKIPPED               | SKIPPED              |
+---------------------+-------------------+--------------------+------------------+-------------------+-----------------------+----------------------+


Windows Server 2022
	Kernel: 10.0.20348.2031
	Compiler: clang 15.0.7, gcc 14.1.0 (MinGW), and MSVC VS 19.39.33521

FreeBSD 13.4
	Kernel: 13.4-RELEASE-p1
	Compiler: clang 18.1.6

FreeBSD 14.1
	Kernel: 14.1-RELEASE-p3
	Compiler: clang 18.1.5

CentOS Stream 9
	Kernel: Depends on container host
	Compiler: gcc 11.4.1 20231218 (Red Hat 11.4.1-3)

Debian 12
	Kernel: Depends on container host
	Compiler: gcc (Debian 12.2.0-14) 12.2.0

Fedora 39
	Kernel: Depends on container host
	Compiler: gcc 13.3.1 20240522 (Red Hat 13.3.1-1)

Fedora 40 (Clang)
	Kernel: Depends on container host
	Compiler: clang 18.1.6 (Fedora 18.1.6-3.fc40)

Fedora 40
	Kernel: Depends on container host
	Compiler: gcc 14.2.1 20240801 (Red Hat 14.2.1-1)

openSUSE Leap 15
	Kernel: Depends on container host
	Compiler: gcc (SUSE Linux) 7.5.0

RHEL8
	Kernel: Depends on container host
	Compiler: gcc 8.5.0 20210514 (Red Hat 8.5.0-22)

RHEL9
	Kernel: Depends on container host
	Compiler: gcc 11.4.1 20231218 (Red Hat 11.4.1-3)

Ubuntu 20.04
	Kernel: Depends on container host
	Compiler: gcc (Ubuntu 9.4.0-1ubuntu1~20.04.2) 9.4.0

Ubuntu 22.04
	Kernel: Depends on container host
	Compiler: gcc (Ubuntu 11.4.0-1ubuntu1~22.04) 11.4.0

Ubuntu 24.04
	Kernel: Depends on container host
	Compiler: gcc (Ubuntu 13.2.0-23ubuntu4) 13.2.0

Alpine
	Kernel: Depends on container host
	Compiler: gcc (Alpine 13.2.1_git20240309) 13.2.1 20240309

Fedora 39 (Clang)
	Kernel: Depends on container host
	Compiler: clang 17.0.6 (Fedora 17.0.6-2.fc39)

To view detailed results, visit:
https://lab.dpdk.org/results/dashboard/tarballs/31746/

UNH-IOL DPDK Community Lab

To manage your email subscriptions, visit: 
https://lab.dpdk.org/results/dashboard/preferences/subscriptions/


More information about the test-report mailing list