|SUCCESS| pw148900 [PATCH] examples/ptpclient: revert add frequency
dpdklab at iol.unh.edu
dpdklab at iol.unh.edu
Wed Nov 27 11:53:14 CET 2024
Test-Label: iol-sample-apps-testing
Test-Status: SUCCESS
http://dpdk.org/patch/148900
_Testing PASS_
Submitter: Mingjin Ye <mingjinx.ye at intel.com>
Date: Wednesday, November 27 2024 07:27:21
DPDK git baseline: Repo:dpdk
Branch: master
CommitID:a4f455560f747af8cd7fa99db86e757b7ff2fe79
148900 --> testing pass
Upstream job id: ACVP-FIPS-testing#8133
Test environment and result as below:
+--------------------+----------------------+----------------------+
| Environment | compressdev_zlib_pmd | dpdk_fips_validation |
+====================+======================+======================+
| Ubuntu 22.04 (ARM) | PASS | SKIPPED |
+--------------------+----------------------+----------------------+
| Ubuntu 22.04 | PASS | SKIPPED |
+--------------------+----------------------+----------------------+
| Ubuntu 20.04 | SKIPPED | PASS |
+--------------------+----------------------+----------------------+
Ubuntu 22.04 (ARM)
Kernel: 5.15.0-97-generic
Compiler: gcc gcc (Ubuntu 11.4.0-1ubuntu1~22.04) 11.4.0
Ubuntu 22.04
Kernel: 5.15.0-100-generic
Compiler: gcc gcc (Ubuntu 11.4.0-1ubuntu1~22.04) 11.4.0
Ubuntu 20.04
Kernel: Depends on container host
Compiler: gcc (Ubuntu 9.4.0-1ubuntu1~20.04.2) 9.4.0
To view detailed results, visit:
https://lab.dpdk.org/results/dashboard/patchsets/32031/
UNH-IOL DPDK Community Lab
To manage your email subscriptions, visit:
https://lab.dpdk.org/results/dashboard/preferences/subscriptions/
More information about the test-report
mailing list