|SUCCESS| pw144857-144862 [PATCH] [v4,6/6] examples: use eventdev pr
    dpdklab at iol.unh.edu 
    dpdklab at iol.unh.edu
       
    Wed Oct  2 04:38:29 CEST 2024
    
    
  
Test-Label: iol-sample-apps-testing
Test-Status: SUCCESS
http://dpdk.org/patch/144862
_Testing PASS_
Submitter: Pavan Nikhilesh Bhagavatula <pbhagavatula at marvell.com>
Date: Tuesday, October 01 2024 13:19:01 
DPDK git baseline: Repo:dpdk
  Branch: master
  CommitID:52a4028e4c33df32c691aa88751a659534b9ef02
144857-144862 --> testing pass
Upstream job id: ACVP-FIPS-testing#7132
Test environment and result as below:
+--------------------+----------------------+----------------------+
|    Environment     | compressdev_zlib_pmd | dpdk_fips_validation |
+====================+======================+======================+
| Ubuntu 22.04 (ARM) | PASS                 | SKIPPED              |
+--------------------+----------------------+----------------------+
| Ubuntu 22.04       | PASS                 | SKIPPED              |
+--------------------+----------------------+----------------------+
| Ubuntu 20.04       | SKIPPED              | PASS                 |
+--------------------+----------------------+----------------------+
Ubuntu 22.04 (ARM)
	Kernel: 5.15.0-97-generic
	Compiler: gcc gcc (Ubuntu 11.4.0-1ubuntu1~22.04) 11.4.0
Ubuntu 22.04
	Kernel: 5.15.0-100-generic
	Compiler: gcc gcc (Ubuntu 11.4.0-1ubuntu1~22.04) 11.4.0
Ubuntu 20.04
	Kernel: Depends on container host
	Compiler: gcc (Ubuntu 9.4.0-1ubuntu1~20.04.2) 9.4.0
To view detailed results, visit:
https://lab.dpdk.org/results/dashboard/patchsets/31209/
UNH-IOL DPDK Community Lab
To manage your email subscriptions, visit: 
https://lab.dpdk.org/results/dashboard/preferences/subscriptions/
    
    
More information about the test-report
mailing list