|SUCCESS| pw144886 [PATCH] eventdev: replace zero-length-array
    dpdklab at iol.unh.edu 
    dpdklab at iol.unh.edu
       
    Wed Oct  2 16:16:54 CEST 2024
    
    
  
Test-Label: iol-unit-arm64-testing
Test-Status: SUCCESS
http://dpdk.org/patch/144886
_Testing PASS_
Submitter: Stephen Hemminger <stephen at networkplumber.org>
Date: Tuesday, October 01 2024 22:01:14 
DPDK git baseline: Repo:dpdk
  Branch: master
  CommitID:52a4028e4c33df32c691aa88751a659534b9ef02
144886 --> testing pass
Upstream job id: Generic-Unit-Test-DPDK#269018
Test environment and result as below:
+-----------------------------+------------------------------+--------------+---------------------------+----------------+
|         Environment         | cryptodev_sw_snow3g_autotest | lpm_autotest | cryptodev_sw_zuc_autotest | dpdk_unit_test |
+=============================+==============================+==============+===========================+================+
| Debian 12 (arm)             | PASS                         | SKIPPED      | PASS                      | PASS           |
+-----------------------------+------------------------------+--------------+---------------------------+----------------+
| Ubuntu 20.04 ARM SVE        | SKIPPED                      | PASS         | SKIPPED                   | SKIPPED        |
+-----------------------------+------------------------------+--------------+---------------------------+----------------+
| CentOS Stream 9 (ARM)       | SKIPPED                      | SKIPPED      | SKIPPED                   | PASS           |
+-----------------------------+------------------------------+--------------+---------------------------+----------------+
| Debian 11 (Buster) (ARM)    | SKIPPED                      | SKIPPED      | SKIPPED                   | PASS           |
+-----------------------------+------------------------------+--------------+---------------------------+----------------+
| Fedora 37 (ARM)             | SKIPPED                      | SKIPPED      | SKIPPED                   | PASS           |
+-----------------------------+------------------------------+--------------+---------------------------+----------------+
| Fedora 38 (ARM)             | SKIPPED                      | SKIPPED      | SKIPPED                   | PASS           |
+-----------------------------+------------------------------+--------------+---------------------------+----------------+
| Fedora 40 (ARM Clang)       | SKIPPED                      | SKIPPED      | SKIPPED                   | PASS           |
+-----------------------------+------------------------------+--------------+---------------------------+----------------+
| Fedora 38 (ARM Clang)       | SKIPPED                      | SKIPPED      | SKIPPED                   | PASS           |
+-----------------------------+------------------------------+--------------+---------------------------+----------------+
| Fedora 39 (ARM)             | SKIPPED                      | SKIPPED      | SKIPPED                   | PASS           |
+-----------------------------+------------------------------+--------------+---------------------------+----------------+
| Fedora 39 (ARM Clang)       | SKIPPED                      | SKIPPED      | SKIPPED                   | PASS           |
+-----------------------------+------------------------------+--------------+---------------------------+----------------+
| Fedora 40 (ARM)             | SKIPPED                      | SKIPPED      | SKIPPED                   | PASS           |
+-----------------------------+------------------------------+--------------+---------------------------+----------------+
| RHEL9 (ARM)                 | SKIPPED                      | SKIPPED      | SKIPPED                   | PASS           |
+-----------------------------+------------------------------+--------------+---------------------------+----------------+
| Ubuntu 24.04 (ARM)          | SKIPPED                      | SKIPPED      | SKIPPED                   | PASS           |
+-----------------------------+------------------------------+--------------+---------------------------+----------------+
| Ubuntu 20.04 (ARM)          | SKIPPED                      | SKIPPED      | SKIPPED                   | PASS           |
+-----------------------------+------------------------------+--------------+---------------------------+----------------+
| Ubuntu 22.04 (ARM)          | SKIPPED                      | SKIPPED      | SKIPPED                   | PASS           |
+-----------------------------+------------------------------+--------------+---------------------------+----------------+
| 32-bit Ubuntu 20.04.4 (ARM) | SKIPPED                      | SKIPPED      | SKIPPED                   | PASS           |
+-----------------------------+------------------------------+--------------+---------------------------+----------------+
Debian 12 (arm)
	Kernel: Depends on container host
	Compiler: gcc (Debian 12.2.0-14) 12.2.0
Ubuntu 20.04 ARM SVE
	Kernel: Depends on container host
	Compiler: gcc (Ubuntu 10.5.0-1ubuntu1~20.04) 10.5.0
CentOS Stream 9 (ARM)
	Kernel: Depends on container host
	Compiler: gcc 11.4.1 20231218 (Red Hat 11.4.1-3)
Debian 11 (Buster) (ARM)
	Kernel: Depends on container host
	Compiler: gcc (Debian 10.2.1-6) 10.2.1 20210110
Fedora 37 (ARM)
	Kernel: Depends on container host
	Compiler: gcc 12.3.1 20230508 (Red Hat 12.3.1-1)
Fedora 38 (ARM)
	Kernel: Depends on container host
	Compiler: gcc 13.2.1 20240316 (Red Hat 13.2.1-7)
Fedora 40 (ARM Clang)
	Kernel: Depends on container host
	Compiler: clang 18.1.6 (Fedora 18.1.6-3.fc40)
Fedora 38 (ARM Clang)
	Kernel: Depends on container host
	Compiler: clang 16.0.6 (Fedora 16.0.6-4.fc38)
Fedora 39 (ARM)
	Kernel: Depends on container host
	Compiler: gcc 13.3.1 20240522 (Red Hat 13.3.1-1)
Fedora 39 (ARM Clang)
	Kernel: Depends on container host
	Compiler: clang 17.0.6 (Fedora 17.0.6-2.fc39)
Fedora 40 (ARM)
	Kernel: Depends on container host
	Compiler: gcc 14.2.1 20240801 (Red Hat 14.2.1-1)
RHEL9 (ARM)
	Kernel: Depends on container host
	Compiler: gcc 11.4.1 20231218 (Red Hat 11.4.1-3)
Ubuntu 24.04 (ARM)
	Kernel: Depends on container host
	Compiler: gcc (Ubuntu 13.2.0-23ubuntu4) 13.2.0
Ubuntu 20.04 (ARM)
	Kernel: Depends on container host
	Compiler: gcc (Ubuntu 9.4.0-1ubuntu1~20.04.2) 9.4.0
Ubuntu 22.04 (ARM)
	Kernel: Depends on container host
	Compiler: gcc (Ubuntu 11.4.0-1ubuntu1~22.04) 11.4.0
32-bit Ubuntu 20.04.4 (ARM)
	Kernel: 5.4.0-155-generic aarch64
	Compiler: gcc 9.4
To view detailed results, visit:
https://lab.dpdk.org/results/dashboard/patchsets/31214/
UNH-IOL DPDK Community Lab
To manage your email subscriptions, visit: 
https://lab.dpdk.org/results/dashboard/preferences/subscriptions/
    
    
More information about the test-report
mailing list