|SUCCESS| [GIT MASTER] d20fd65f258afb5b572fe686b7d1032aeb95e079
    dpdklab at iol.unh.edu 
    dpdklab at iol.unh.edu
       
    Fri Oct  4 09:54:24 CEST 2024
    
    
  
_Testing PASS_
Branch: tags/v21.11
d20fd65f258afb5b572fe686b7d1032aeb95e079 --> testing pass
Upstream job id: Windows-Compile-DPDK-Native#22723
Test environment and result as below:
+---------------------+--------------------+-----------------------+----------------------+
|     Environment     | dpdk_meson_compile | dpdk_win_llvm_compile | dpdk_mingw64_compile |
+=====================+====================+=======================+======================+
| FreeBSD 13.4        | PASS               | SKIPPED               | SKIPPED              |
+---------------------+--------------------+-----------------------+----------------------+
| FreeBSD 14.1        | PASS               | SKIPPED               | SKIPPED              |
+---------------------+--------------------+-----------------------+----------------------+
| Windows Server 2022 | SKIPPED            | PASS                  | PASS                 |
+---------------------+--------------------+-----------------------+----------------------+
FreeBSD 13.4
	Kernel: 13.4-RELEASE-p1
	Compiler: clang 18.1.6
FreeBSD 14.1
	Kernel: 14.1-RELEASE-p3
	Compiler: clang 18.1.5
Windows Server 2022
	Kernel: 10.0.20348.2031
	Compiler: clang 15.0.7, gcc 14.1.0 (MinGW), and MSVC VS 19.39.33521
To view detailed results, visit:
https://lab.dpdk.org/results/dashboard/tarballs/30849/
UNH-IOL DPDK Community Lab
To manage your email subscriptions, visit: 
https://lab.dpdk.org/results/dashboard/preferences/subscriptions/
    
    
More information about the test-report
mailing list