|SUCCESS| [GIT MASTER] ff4d4839f9c2a6d05dca0a25ed6b1549402e1682
    dpdklab at iol.unh.edu 
    dpdklab at iol.unh.edu
       
    Mon Oct  7 07:58:25 CEST 2024
    
    
  
_Testing PASS_
Branch: tags/v22.11
ff4d4839f9c2a6d05dca0a25ed6b1549402e1682 --> testing pass
Upstream job id: Windows-Compile-DPDK-Native#22805
Test environment and result as below:
+---------------------+----------------------+--------------------+-----------------------+
|     Environment     | dpdk_mingw64_compile | dpdk_meson_compile | dpdk_win_llvm_compile |
+=====================+======================+====================+=======================+
| Windows Server 2022 | PASS                 | SKIPPED            | PASS                  |
+---------------------+----------------------+--------------------+-----------------------+
| FreeBSD 13.4        | SKIPPED              | PASS               | SKIPPED               |
+---------------------+----------------------+--------------------+-----------------------+
| FreeBSD 14.1        | SKIPPED              | PASS               | SKIPPED               |
+---------------------+----------------------+--------------------+-----------------------+
Windows Server 2022
	Kernel: 10.0.20348.2031
	Compiler: clang 15.0.7, gcc 14.1.0 (MinGW), and MSVC VS 19.39.33521
FreeBSD 13.4
	Kernel: 13.4-RELEASE-p1
	Compiler: clang 18.1.6
FreeBSD 14.1
	Kernel: 14.1-RELEASE-p3
	Compiler: clang 18.1.5
To view detailed results, visit:
https://lab.dpdk.org/results/dashboard/tarballs/30888/
UNH-IOL DPDK Community Lab
To manage your email subscriptions, visit: 
https://lab.dpdk.org/results/dashboard/preferences/subscriptions/
    
    
More information about the test-report
mailing list