|SUCCESS| [GIT MASTER] d20fd65f258afb5b572fe686b7d1032aeb95e079
    dpdklab at iol.unh.edu 
    dpdklab at iol.unh.edu
       
    Tue Oct  8 07:54:22 CEST 2024
    
    
  
_Testing PASS_
Branch: tags/v21.11
d20fd65f258afb5b572fe686b7d1032aeb95e079 --> testing pass
Upstream job id: Generic-VM-DPDK-Compile-Meson#30056
Test environment and result as below:
+---------------------+-----------------------+----------------------+--------------------+
|     Environment     | dpdk_win_llvm_compile | dpdk_mingw64_compile | dpdk_meson_compile |
+=====================+=======================+======================+====================+
| Windows Server 2022 | PASS                  | PASS                 | SKIPPED            |
+---------------------+-----------------------+----------------------+--------------------+
| FreeBSD 13.4        | SKIPPED               | SKIPPED              | PASS               |
+---------------------+-----------------------+----------------------+--------------------+
| FreeBSD 14.1        | SKIPPED               | SKIPPED              | PASS               |
+---------------------+-----------------------+----------------------+--------------------+
Windows Server 2022
	Kernel: 10.0.20348.2031
	Compiler: clang 15.0.7, gcc 14.1.0 (MinGW), and MSVC VS 19.39.33521
FreeBSD 13.4
	Kernel: 13.4-RELEASE-p1
	Compiler: clang 18.1.6
FreeBSD 14.1
	Kernel: 14.1-RELEASE-p3
	Compiler: clang 18.1.5
To view detailed results, visit:
https://lab.dpdk.org/results/dashboard/tarballs/30907/
UNH-IOL DPDK Community Lab
To manage your email subscriptions, visit: 
https://lab.dpdk.org/results/dashboard/preferences/subscriptions/
    
    
More information about the test-report
mailing list