|SUCCESS| [GIT MASTER] b28984fcf6b69e90a917f51cf0f9139a9b74486a
    dpdklab at iol.unh.edu 
    dpdklab at iol.unh.edu
       
    Sun Oct 13 18:51:28 CEST 2024
    
    
  
_Testing PASS_
Branch: dpdk-next-net
b28984fcf6b69e90a917f51cf0f9139a9b74486a --> testing pass
Upstream job id: Windows-Compile-DPDK-Native#23014
Test environment and result as below:
+---------------------+-----------------------+----------------------+-------------------+
|     Environment     | dpdk_win_llvm_compile | dpdk_mingw64_compile | dpdk_msvc_compile |
+=====================+=======================+======================+===================+
| Windows Server 2022 | PASS                  | PASS                 | PASS              |
+---------------------+-----------------------+----------------------+-------------------+
Windows Server 2022
	Kernel: 10.0.20348.2031
	Compiler: clang 15.0.7, gcc 14.1.0 (MinGW), and MSVC VS 19.39.33521
To view detailed results, visit:
https://lab.dpdk.org/results/dashboard/tarballs/30993/
UNH-IOL DPDK Community Lab
To manage your email subscriptions, visit: 
https://lab.dpdk.org/results/dashboard/preferences/subscriptions/
    
    
More information about the test-report
mailing list