|SUCCESS| pw146026-146029 [PATCH] [v2,5/5] net/mlx5: implement jump 
    dpdklab at iol.unh.edu 
    dpdklab at iol.unh.edu
       
    Wed Oct 16 18:50:35 CEST 2024
    
    
  
Test-Label: iol-compile-amd64-testing
Test-Status: SUCCESS
http://dpdk.org/patch/146029
_Testing PASS_
Submitter: Alexander Kozyrev <akozyrev at nvidia.com>
Date: Tuesday, October 15 2024 16:47:18 
DPDK git baseline: Repo:dpdk
  Branch: master
  CommitID:9c935343d8c7397198f2fb72500cc9db120c8d8d
146026-146029 --> testing pass
Upstream job id: Generic-DPDK-Compile-Meson#317052
Test environment and result as below:
+---------------------+----------------------+-----------------------+--------------------+------------------+-------------------+
|     Environment     | dpdk_mingw64_compile | dpdk_win_llvm_compile | dpdk_meson_compile | dpdk_compile_ovs | dpdk_compile_spdk |
+=====================+======================+=======================+====================+==================+===================+
| Windows Server 2022 | PASS                 | PASS                  | SKIPPED            | SKIPPED          | SKIPPED           |
+---------------------+----------------------+-----------------------+--------------------+------------------+-------------------+
| FreeBSD 13.4        | SKIPPED              | SKIPPED               | PASS               | SKIPPED          | SKIPPED           |
+---------------------+----------------------+-----------------------+--------------------+------------------+-------------------+
| FreeBSD 14.1        | SKIPPED              | SKIPPED               | PASS               | SKIPPED          | SKIPPED           |
+---------------------+----------------------+-----------------------+--------------------+------------------+-------------------+
| CentOS Stream 9     | SKIPPED              | SKIPPED               | PASS               | PASS             | PASS              |
+---------------------+----------------------+-----------------------+--------------------+------------------+-------------------+
| Debian Bullseye     | SKIPPED              | SKIPPED               | PASS               | PASS             | PASS              |
+---------------------+----------------------+-----------------------+--------------------+------------------+-------------------+
| Debian 12           | SKIPPED              | SKIPPED               | PASS               | PASS             | PASS              |
+---------------------+----------------------+-----------------------+--------------------+------------------+-------------------+
| Fedora 37           | SKIPPED              | SKIPPED               | PASS               | PASS             | PASS              |
+---------------------+----------------------+-----------------------+--------------------+------------------+-------------------+
| Fedora 38 (Clang)   | SKIPPED              | SKIPPED               | PASS               | PASS             | PASS              |
+---------------------+----------------------+-----------------------+--------------------+------------------+-------------------+
| Fedora 38           | SKIPPED              | SKIPPED               | PASS               | PASS             | PASS              |
+---------------------+----------------------+-----------------------+--------------------+------------------+-------------------+
| Fedora 39 (Clang)   | SKIPPED              | SKIPPED               | PASS               | PASS             | PASS              |
+---------------------+----------------------+-----------------------+--------------------+------------------+-------------------+
| Fedora 39           | SKIPPED              | SKIPPED               | PASS               | PASS             | PASS              |
+---------------------+----------------------+-----------------------+--------------------+------------------+-------------------+
| Fedora 40 (Clang)   | SKIPPED              | SKIPPED               | PASS               | PASS             | PASS              |
+---------------------+----------------------+-----------------------+--------------------+------------------+-------------------+
| Fedora 40           | SKIPPED              | SKIPPED               | PASS               | PASS             | PASS              |
+---------------------+----------------------+-----------------------+--------------------+------------------+-------------------+
| openSUSE Leap 15    | SKIPPED              | SKIPPED               | PASS               | PASS             | SKIPPED           |
+---------------------+----------------------+-----------------------+--------------------+------------------+-------------------+
| RHEL8               | SKIPPED              | SKIPPED               | PASS               | PASS             | SKIPPED           |
+---------------------+----------------------+-----------------------+--------------------+------------------+-------------------+
| RHEL9               | SKIPPED              | SKIPPED               | PASS               | PASS             | SKIPPED           |
+---------------------+----------------------+-----------------------+--------------------+------------------+-------------------+
| Ubuntu 22.04        | SKIPPED              | SKIPPED               | PASS               | PASS             | PASS              |
+---------------------+----------------------+-----------------------+--------------------+------------------+-------------------+
| Alpine              | SKIPPED              | SKIPPED               | PASS               | PASS             | SKIPPED           |
+---------------------+----------------------+-----------------------+--------------------+------------------+-------------------+
Windows Server 2022
	Kernel: 10.0.20348.2031
	Compiler: clang 15.0.7, gcc 14.1.0 (MinGW), and MSVC VS 19.39.33521
FreeBSD 13.4
	Kernel: 13.4-RELEASE-p1
	Compiler: clang 18.1.6
FreeBSD 14.1
	Kernel: 14.1-RELEASE-p3
	Compiler: clang 18.1.5
CentOS Stream 9
	Kernel: Depends on container host
	Compiler: gcc 11.4.1 20231218 (Red Hat 11.4.1-3)
Debian Bullseye
	Kernel: Depends on container host
	Compiler: gcc (Debian 10.2.1-6) 10.2.1 20210110
Debian 12
	Kernel: Depends on container host
	Compiler: gcc (Debian 12.2.0-14) 12.2.0
Fedora 37
	Kernel: Depends on container host system
	Compiler: gcc 12.3.1 20230508 (Red Hat 12.3.1-1)
Fedora 38 (Clang)
	Kernel: Depends on container host
	Compiler: clang 16.0.6 (Fedora 16.0.6-4.fc38)
Fedora 38
	Kernel: Depends on container host
	Compiler: gcc 13.2.1 20240316 (Red Hat 13.2.1-7)
Fedora 39 (Clang)
	Kernel: Depends on container host
	Compiler: clang 17.0.6 (Fedora 17.0.6-2.fc39)
Fedora 39
	Kernel: Depends on container host
	Compiler: gcc 13.3.1 20240522 (Red Hat 13.3.1-1)
Fedora 40 (Clang)
	Kernel: Depends on container host
	Compiler: clang 18.1.6 (Fedora 18.1.6-3.fc40)
Fedora 40
	Kernel: Depends on container host
	Compiler: gcc 14.2.1 20240801 (Red Hat 14.2.1-1)
openSUSE Leap 15
	Kernel: Depends on container host
	Compiler: gcc (SUSE Linux) 7.5.0
RHEL8
	Kernel: Depends on container host
	Compiler: gcc 8.5.0 20210514 (Red Hat 8.5.0-22)
RHEL9
	Kernel: Depends on container host
	Compiler: gcc 11.4.1 20231218 (Red Hat 11.4.1-3)
Ubuntu 22.04
	Kernel: Depends on container host
	Compiler: gcc (Ubuntu 11.4.0-1ubuntu1~22.04) 11.4.0
Alpine
	Kernel: Depends on container host
	Compiler: gcc (Alpine 13.2.1_git20240309) 13.2.1 20240309
To view detailed results, visit:
https://lab.dpdk.org/results/dashboard/patchsets/31502/
UNH-IOL DPDK Community Lab
To manage your email subscriptions, visit: 
https://lab.dpdk.org/results/dashboard/preferences/subscriptions/
    
    
More information about the test-report
mailing list