|SUCCESS| pw146045 [PATCH] net/nfp: modify Rx buffer size setting lo
    dpdklab at iol.unh.edu 
    dpdklab at iol.unh.edu
       
    Thu Oct 17 01:59:48 CEST 2024
    
    
  
Test-Label: iol-compile-amd64-testing
Test-Status: SUCCESS
http://dpdk.org/patch/146045
_Testing PASS_
Submitter: Chaoyong He <chaoyong.he at corigine.com>
Date: Wednesday, October 16 2024 08:15:22 
DPDK git baseline: Repo:dpdk
  Branch: master
  CommitID:f2e424aeb6edf8c4990abf266aaa8814a8050616
146045 --> testing pass
Upstream job id: Windows-Compile-DPDK-Native#23151
Test environment and result as below:
+---------------------+----------------------+-----------------------+--------------------+
|     Environment     | dpdk_mingw64_compile | dpdk_win_llvm_compile | dpdk_meson_compile |
+=====================+======================+=======================+====================+
| Windows Server 2022 | PASS                 | PASS                  | SKIPPED            |
+---------------------+----------------------+-----------------------+--------------------+
| FreeBSD 13.4        | SKIPPED              | SKIPPED               | PASS               |
+---------------------+----------------------+-----------------------+--------------------+
| FreeBSD 14.1        | SKIPPED              | SKIPPED               | PASS               |
+---------------------+----------------------+-----------------------+--------------------+
Windows Server 2022
	Kernel: 10.0.20348.2031
	Compiler: clang 15.0.7, gcc 14.1.0 (MinGW), and MSVC VS 19.39.33521
FreeBSD 13.4
	Kernel: 13.4-RELEASE-p1
	Compiler: clang 18.1.6
FreeBSD 14.1
	Kernel: 14.1-RELEASE-p3
	Compiler: clang 18.1.5
To view detailed results, visit:
https://lab.dpdk.org/results/dashboard/patchsets/31506/
UNH-IOL DPDK Community Lab
To manage your email subscriptions, visit: 
https://lab.dpdk.org/results/dashboard/preferences/subscriptions/
    
    
More information about the test-report
mailing list