|SUCCESS| pw146057-146076 [PATCH] [v10,12/12] crypto/zsda: add zsda 
    dpdklab at iol.unh.edu 
    dpdklab at iol.unh.edu
       
    Thu Oct 17 13:11:04 CEST 2024
    
    
  
Test-Label: iol-compile-amd64-testing
Test-Status: SUCCESS
http://dpdk.org/patch/146076
_Testing PASS_
Submitter: Hanxiao Li <li.hanxiao at zte.com.cn>
Date: Wednesday, October 16 2024 08:38:51 
DPDK git baseline: Repo:dpdk
  Branch: master
  CommitID:98613d32e3dac58d685f4f236cf8cc9733abaaf3
146057-146076 --> testing pass
Upstream job id: Generic-DPDK-Compile-Meson#317493
Test environment and result as below:
+---------------------+----------------------+--------------------+-----------------------+-------------------+------------------+-------------------+
|     Environment     | dpdk_mingw64_compile | dpdk_meson_compile | dpdk_win_llvm_compile | dpdk_msvc_compile | dpdk_compile_ovs | dpdk_compile_spdk |
+=====================+======================+====================+=======================+===================+==================+===================+
| Windows Server 2022 | PASS                 | SKIPPED            | PASS                  | PASS              | SKIPPED          | SKIPPED           |
+---------------------+----------------------+--------------------+-----------------------+-------------------+------------------+-------------------+
| FreeBSD 13.4        | SKIPPED              | PASS               | SKIPPED               | SKIPPED           | SKIPPED          | SKIPPED           |
+---------------------+----------------------+--------------------+-----------------------+-------------------+------------------+-------------------+
| FreeBSD 14.1        | SKIPPED              | PASS               | SKIPPED               | SKIPPED           | SKIPPED          | SKIPPED           |
+---------------------+----------------------+--------------------+-----------------------+-------------------+------------------+-------------------+
| CentOS Stream 9     | SKIPPED              | PASS               | SKIPPED               | SKIPPED           | PASS             | PASS              |
+---------------------+----------------------+--------------------+-----------------------+-------------------+------------------+-------------------+
| Debian Bullseye     | SKIPPED              | PASS               | SKIPPED               | SKIPPED           | PASS             | PASS              |
+---------------------+----------------------+--------------------+-----------------------+-------------------+------------------+-------------------+
| Fedora 37           | SKIPPED              | PASS               | SKIPPED               | SKIPPED           | PASS             | PASS              |
+---------------------+----------------------+--------------------+-----------------------+-------------------+------------------+-------------------+
| Fedora 38 (Clang)   | SKIPPED              | PASS               | SKIPPED               | SKIPPED           | PASS             | PASS              |
+---------------------+----------------------+--------------------+-----------------------+-------------------+------------------+-------------------+
| Fedora 38           | SKIPPED              | PASS               | SKIPPED               | SKIPPED           | PASS             | PASS              |
+---------------------+----------------------+--------------------+-----------------------+-------------------+------------------+-------------------+
| Fedora 39           | SKIPPED              | PASS               | SKIPPED               | SKIPPED           | PASS             | PASS              |
+---------------------+----------------------+--------------------+-----------------------+-------------------+------------------+-------------------+
| Fedora 40 (Clang)   | SKIPPED              | PASS               | SKIPPED               | SKIPPED           | PASS             | PASS              |
+---------------------+----------------------+--------------------+-----------------------+-------------------+------------------+-------------------+
| Fedora 40           | SKIPPED              | PASS               | SKIPPED               | SKIPPED           | PASS             | PASS              |
+---------------------+----------------------+--------------------+-----------------------+-------------------+------------------+-------------------+
| openSUSE Leap 15    | SKIPPED              | PASS               | SKIPPED               | SKIPPED           | PASS             | SKIPPED           |
+---------------------+----------------------+--------------------+-----------------------+-------------------+------------------+-------------------+
| RHEL8               | SKIPPED              | PASS               | SKIPPED               | SKIPPED           | PASS             | SKIPPED           |
+---------------------+----------------------+--------------------+-----------------------+-------------------+------------------+-------------------+
| RHEL9               | SKIPPED              | PASS               | SKIPPED               | SKIPPED           | PASS             | SKIPPED           |
+---------------------+----------------------+--------------------+-----------------------+-------------------+------------------+-------------------+
| Ubuntu 20.04        | SKIPPED              | PASS               | SKIPPED               | SKIPPED           | PASS             | SKIPPED           |
+---------------------+----------------------+--------------------+-----------------------+-------------------+------------------+-------------------+
| Ubuntu 22.04        | SKIPPED              | PASS               | SKIPPED               | SKIPPED           | PASS             | PASS              |
+---------------------+----------------------+--------------------+-----------------------+-------------------+------------------+-------------------+
| Ubuntu 24.04        | SKIPPED              | PASS               | SKIPPED               | SKIPPED           | PASS             | PASS              |
+---------------------+----------------------+--------------------+-----------------------+-------------------+------------------+-------------------+
| Alpine              | SKIPPED              | PASS               | SKIPPED               | SKIPPED           | PASS             | SKIPPED           |
+---------------------+----------------------+--------------------+-----------------------+-------------------+------------------+-------------------+
| Debian 12           | SKIPPED              | PASS               | SKIPPED               | SKIPPED           | PASS             | PASS              |
+---------------------+----------------------+--------------------+-----------------------+-------------------+------------------+-------------------+
| Fedora 39 (Clang)   | SKIPPED              | PASS               | SKIPPED               | SKIPPED           | PASS             | PASS              |
+---------------------+----------------------+--------------------+-----------------------+-------------------+------------------+-------------------+
Windows Server 2022
	Kernel: 10.0.20348.2031
	Compiler: clang 15.0.7, gcc 14.1.0 (MinGW), and MSVC VS 19.39.33521
FreeBSD 13.4
	Kernel: 13.4-RELEASE-p1
	Compiler: clang 18.1.6
FreeBSD 14.1
	Kernel: 14.1-RELEASE-p3
	Compiler: clang 18.1.5
CentOS Stream 9
	Kernel: Depends on container host
	Compiler: gcc 11.4.1 20231218 (Red Hat 11.4.1-3)
Debian Bullseye
	Kernel: Depends on container host
	Compiler: gcc (Debian 10.2.1-6) 10.2.1 20210110
Fedora 37
	Kernel: Depends on container host system
	Compiler: gcc 12.3.1 20230508 (Red Hat 12.3.1-1)
Fedora 38 (Clang)
	Kernel: Depends on container host
	Compiler: clang 16.0.6 (Fedora 16.0.6-4.fc38)
Fedora 38
	Kernel: Depends on container host
	Compiler: gcc 13.2.1 20240316 (Red Hat 13.2.1-7)
Fedora 39
	Kernel: Depends on container host
	Compiler: gcc 13.3.1 20240522 (Red Hat 13.3.1-1)
Fedora 40 (Clang)
	Kernel: Depends on container host
	Compiler: clang 18.1.6 (Fedora 18.1.6-3.fc40)
Fedora 40
	Kernel: Depends on container host
	Compiler: gcc 14.2.1 20240801 (Red Hat 14.2.1-1)
openSUSE Leap 15
	Kernel: Depends on container host
	Compiler: gcc (SUSE Linux) 7.5.0
RHEL8
	Kernel: Depends on container host
	Compiler: gcc 8.5.0 20210514 (Red Hat 8.5.0-22)
RHEL9
	Kernel: Depends on container host
	Compiler: gcc 11.4.1 20231218 (Red Hat 11.4.1-3)
Ubuntu 20.04
	Kernel: Depends on container host
	Compiler: gcc (Ubuntu 9.4.0-1ubuntu1~20.04.2) 9.4.0
Ubuntu 22.04
	Kernel: Depends on container host
	Compiler: gcc (Ubuntu 11.4.0-1ubuntu1~22.04) 11.4.0
Ubuntu 24.04
	Kernel: Depends on container host
	Compiler: gcc (Ubuntu 13.2.0-23ubuntu4) 13.2.0
Alpine
	Kernel: Depends on container host
	Compiler: gcc (Alpine 13.2.1_git20240309) 13.2.1 20240309
Debian 12
	Kernel: Depends on container host
	Compiler: gcc (Debian 12.2.0-14) 12.2.0
Fedora 39 (Clang)
	Kernel: Depends on container host
	Compiler: clang 17.0.6 (Fedora 17.0.6-2.fc39)
To view detailed results, visit:
https://lab.dpdk.org/results/dashboard/patchsets/31510/
UNH-IOL DPDK Community Lab
To manage your email subscriptions, visit: 
https://lab.dpdk.org/results/dashboard/preferences/subscriptions/
    
    
More information about the test-report
mailing list