|SUCCESS| pw146195 [PATCH] [v4] hash: separate creation parameters c
    dpdklab at iol.unh.edu 
    dpdklab at iol.unh.edu
       
    Fri Oct 18 01:55:57 CEST 2024
    
    
  
Test-Label: iol-compile-amd64-testing
Test-Status: SUCCESS
http://dpdk.org/patch/146195
_Testing PASS_
Submitter: Thomas Monjalon <thomas at monjalon.net>
Date: Thursday, October 17 2024 15:10:19 
DPDK git baseline: Repo:dpdk
  Branch: master
  CommitID:2dff0bcd3b54bc3279de42123aa618620224ad44
146195 --> testing pass
Upstream job id: Windows-Compile-DPDK-VS#3520
Test environment and result as below:
+---------------------+--------------------+-------------------+
|     Environment     | dpdk_meson_compile | dpdk_msvc_compile |
+=====================+====================+===================+
| FreeBSD 13.4        | PASS               | SKIPPED           |
+---------------------+--------------------+-------------------+
| FreeBSD 14.1        | PASS               | SKIPPED           |
+---------------------+--------------------+-------------------+
| Windows Server 2022 | SKIPPED            | PASS              |
+---------------------+--------------------+-------------------+
FreeBSD 13.4
	Kernel: 13.4-RELEASE-p1
	Compiler: clang 18.1.6
FreeBSD 14.1
	Kernel: 14.1-RELEASE-p3
	Compiler: clang 18.1.5
Windows Server 2022
	Kernel: 10.0.20348.2031
	Compiler: clang 15.0.7, gcc 14.1.0 (MinGW), and MSVC VS 19.39.33521
To view detailed results, visit:
https://lab.dpdk.org/results/dashboard/patchsets/31536/
UNH-IOL DPDK Community Lab
To manage your email subscriptions, visit: 
https://lab.dpdk.org/results/dashboard/preferences/subscriptions/
    
    
More information about the test-report
mailing list