|WARNING| pw146334-146337 [PATCH] [v6,5/5] maintainers: update for d
    dpdklab at iol.unh.edu 
    dpdklab at iol.unh.edu
       
    Sun Oct 20 17:57:30 CEST 2024
    
    
  
Test-Label: iol-compile-amd64-testing
Test-Status: WARNING
http://dpdk.org/patch/146337
_Testing issues_
Submitter: Sivaprasad Tummala <Sivaprasad.Tummala at amd.com>
Date: Sunday, October 20 2024 09:22:32 
DPDK git baseline: Repo:dpdk
  Branch: master
  CommitID:e609858b480ca0d646e5f05f2c7fd6bbf35a4140
146334-146337 --> testing issues
Upstream job id: Generic-DPDK-Compile-Meson#319573
Test environment and result as below:
+---------------------+-------------------+--------------------+------------------+-------------------+
|     Environment     | dpdk_msvc_compile | dpdk_meson_compile | dpdk_compile_ovs | dpdk_compile_spdk |
+=====================+===================+====================+==================+===================+
| Windows Server 2022 | PASS              | SKIPPED            | SKIPPED          | SKIPPED           |
+---------------------+-------------------+--------------------+------------------+-------------------+
| FreeBSD 13.4        | SKIPPED           | PASS               | SKIPPED          | SKIPPED           |
+---------------------+-------------------+--------------------+------------------+-------------------+
| FreeBSD 14.1        | SKIPPED           | PASS               | SKIPPED          | SKIPPED           |
+---------------------+-------------------+--------------------+------------------+-------------------+
| CentOS Stream 9     | SKIPPED           | PASS               | WARN             | PASS              |
+---------------------+-------------------+--------------------+------------------+-------------------+
==== 20 line log output for CentOS Stream 9 (dpdk_compile_ovs): ====
 --- Failed to get log output --- 
==== End log output ====
Windows Server 2022
	Kernel: 10.0.20348.2031
	Compiler: clang 15.0.7, gcc 14.1.0 (MinGW), and MSVC VS 19.39.33521
FreeBSD 13.4
	Kernel: 13.4-RELEASE-p1
	Compiler: clang 18.1.6
FreeBSD 14.1
	Kernel: 14.1-RELEASE-p3
	Compiler: clang 18.1.5
CentOS Stream 9
	Kernel: Depends on container host
	Compiler: gcc 11.4.1 20231218 (Red Hat 11.4.1-3)
To view detailed results, visit:
https://lab.dpdk.org/results/dashboard/patchsets/31562/
UNH-IOL DPDK Community Lab
To manage your email subscriptions, visit: 
https://lab.dpdk.org/results/dashboard/preferences/subscriptions/
    
    
More information about the test-report
mailing list