|SUCCESS| pw146151 [PATCH] net/nfp: fix return value check problem
    dpdklab at iol.unh.edu 
    dpdklab at iol.unh.edu
       
    Mon Oct 21 03:45:03 CEST 2024
    
    
  
Test-Label: iol-unit-arm64-testing
Test-Status: SUCCESS
http://dpdk.org/patch/146151
_Testing PASS_
Submitter: Chaoyong He <chaoyong.he at corigine.com>
Date: Thursday, October 17 2024 07:36:29 
DPDK git baseline: Repo:dpdk
  Branch: master
  CommitID:1e942d005e431a417fae53abfcb09253377ddfd4
146151 --> testing pass
Upstream job id: Aarch32-Unit-Test#3881
Test environment and result as below:
+-----------------------------+----------------+
|         Environment         | dpdk_unit_test |
+=============================+================+
| Ubuntu 24.04 (ARM)          | PASS           |
+-----------------------------+----------------+
| Fedora 40 (ARM Clang)       | PASS           |
+-----------------------------+----------------+
| 32-bit Ubuntu 20.04.4 (ARM) | PASS           |
+-----------------------------+----------------+
Ubuntu 24.04 (ARM)
	Kernel: Depends on container host
	Compiler: gcc (Ubuntu 13.2.0-23ubuntu4) 13.2.0
Fedora 40 (ARM Clang)
	Kernel: Depends on container host
	Compiler: clang 18.1.6 (Fedora 18.1.6-3.fc40)
32-bit Ubuntu 20.04.4 (ARM)
	Kernel: 5.4.0-155-generic aarch64
	Compiler: gcc 9.4
To view detailed results, visit:
https://lab.dpdk.org/results/dashboard/patchsets/31524/
UNH-IOL DPDK Community Lab
To manage your email subscriptions, visit: 
https://lab.dpdk.org/results/dashboard/preferences/subscriptions/
    
    
More information about the test-report
mailing list