|SUCCESS| pw146343-146344 [PATCH] [2/2] net/cnxk: support rte flow o
    dpdklab at iol.unh.edu 
    dpdklab at iol.unh.edu
       
    Tue Oct 22 04:06:43 CEST 2024
    
    
  
Test-Label: iol-compile-amd64-testing
Test-Status: SUCCESS
http://dpdk.org/patch/146344
_Testing PASS_
Submitter: Satheesh Paul Antonysamy <psatheesh at marvell.com>
Date: Monday, October 21 2024 04:01:44 
DPDK git baseline: Repo:dpdk
  Branch: master
  CommitID:9a723449a5b30626db66bb27cd96834261d11971
146343-146344 --> testing pass
Upstream job id: Windows-Compile-DPDK-Native#23432
Test environment and result as below:
+---------------------+----------------------+-----------------------+--------------------+-------------------+
|     Environment     | dpdk_mingw64_compile | dpdk_win_llvm_compile | dpdk_meson_compile | dpdk_msvc_compile |
+=====================+======================+=======================+====================+===================+
| Windows Server 2022 | PASS                 | PASS                  | SKIPPED            | PASS              |
+---------------------+----------------------+-----------------------+--------------------+-------------------+
| FreeBSD 13.4        | SKIPPED              | SKIPPED               | PASS               | SKIPPED           |
+---------------------+----------------------+-----------------------+--------------------+-------------------+
| FreeBSD 14.1        | SKIPPED              | SKIPPED               | PASS               | SKIPPED           |
+---------------------+----------------------+-----------------------+--------------------+-------------------+
Windows Server 2022
	Kernel: 10.0.20348.2031
	Compiler: clang 15.0.7, gcc 14.1.0 (MinGW), and MSVC VS 19.39.33521
FreeBSD 13.4
	Kernel: 13.4-RELEASE-p1
	Compiler: clang 18.1.6
FreeBSD 14.1
	Kernel: 14.1-RELEASE-p3
	Compiler: clang 18.1.5
To view detailed results, visit:
https://lab.dpdk.org/results/dashboard/patchsets/31566/
UNH-IOL DPDK Community Lab
To manage your email subscriptions, visit: 
https://lab.dpdk.org/results/dashboard/preferences/subscriptions/
    
    
More information about the test-report
mailing list