|SUCCESS| [GIT MASTER] e609858b480ca0d646e5f05f2c7fd6bbf35a4140
    dpdklab at iol.unh.edu 
    dpdklab at iol.unh.edu
       
    Tue Oct 22 10:19:38 CEST 2024
    
    
  
_Testing PASS_
Branch: dpdk-next-eventdev
e609858b480ca0d646e5f05f2c7fd6bbf35a4140 --> testing pass
Upstream job id: Windows-Compile-DPDK-Native#23460
Test environment and result as below:
+---------------------+----------------------+-----------------------+--------------------+
|     Environment     | dpdk_mingw64_compile | dpdk_win_llvm_compile | dpdk_meson_compile |
+=====================+======================+=======================+====================+
| Windows Server 2022 | PASS                 | PASS                  | SKIPPED            |
+---------------------+----------------------+-----------------------+--------------------+
| FreeBSD 13.4        | SKIPPED              | SKIPPED               | PASS               |
+---------------------+----------------------+-----------------------+--------------------+
| FreeBSD 14.1        | SKIPPED              | SKIPPED               | PASS               |
+---------------------+----------------------+-----------------------+--------------------+
Windows Server 2022
	Kernel: 10.0.20348.2031
	Compiler: clang 15.0.7, gcc 14.1.0 (MinGW), and MSVC VS 19.39.33521
FreeBSD 13.4
	Kernel: 13.4-RELEASE-p1
	Compiler: clang 18.1.6
FreeBSD 14.1
	Kernel: 14.1-RELEASE-p3
	Compiler: clang 18.1.5
To view detailed results, visit:
https://lab.dpdk.org/results/dashboard/tarballs/31150/
UNH-IOL DPDK Community Lab
To manage your email subscriptions, visit: 
https://lab.dpdk.org/results/dashboard/preferences/subscriptions/
    
    
More information about the test-report
mailing list