|SUCCESS| pw143536-143565 [PATCH] [v1,30/30] net/i40e: update base d

dpdklab at iol.unh.edu dpdklab at iol.unh.edu
Mon Sep 2 14:55:44 CEST 2024


Test-Label: iol-compile-amd64-testing
Test-Status: SUCCESS
http://dpdk.org/patch/143565

_Testing PASS_

Submitter: Anatoly Burakov <anatoly.burakov at intel.com>
Date: Monday, September 02 2024 09:54:42 
DPDK git baseline: Repo:dpdk
  Branch: master
  CommitID:dfd68009230882b05be48d43a3b14df7875108b8

143536-143565 --> testing pass

Upstream job id: Windows-Compile-DPDK-Native#21854

Test environment and result as below:

+---------------------+-----------------------+-------------------+----------------------+--------------------+
|     Environment     | dpdk_win_llvm_compile | dpdk_msvc_compile | dpdk_mingw64_compile | dpdk_meson_compile |
+=====================+=======================+===================+======================+====================+
| Windows Server 2022 | PASS                  | PASS              | PASS                 | SKIPPED            |
+---------------------+-----------------------+-------------------+----------------------+--------------------+
| FreeBSD 13.3        | SKIPPED               | SKIPPED           | SKIPPED              | PASS               |
+---------------------+-----------------------+-------------------+----------------------+--------------------+
| FreeBSD 14.1        | SKIPPED               | SKIPPED           | SKIPPED              | PASS               |
+---------------------+-----------------------+-------------------+----------------------+--------------------+


Windows Server 2022
	Kernel: 10.0.20348.2031
	Compiler: clang 15.0.7, gcc 14.1.0 (MinGW), and MSVC VS 19.39.33521

FreeBSD 13.3
	Kernel: 13.3-RELEASE-p5
	Compiler: clang 17.0.6

FreeBSD 14.1
	Kernel: 14.1-RELEASE-p3
	Compiler: clang 18.1.5

To view detailed results, visit:
https://lab.dpdk.org/results/dashboard/patchsets/30891/

UNH-IOL DPDK Community Lab

To manage your email subscriptions, visit: 
https://lab.dpdk.org/results/dashboard/preferences/subscriptions/


More information about the test-report mailing list