|SUCCESS| [GIT MASTER] 5cce3d463a99dbb5e7797faaed6c68df6c2b549a

dpdklab at iol.unh.edu dpdklab at iol.unh.edu
Tue Sep 3 09:21:02 CEST 2024


_Testing PASS_

Branch: dpdk-next-net

5cce3d463a99dbb5e7797faaed6c68df6c2b549a --> testing pass

Upstream job id: Generic-VM-DPDK-Compile-Meson#29098

Test environment and result as below:

+---------------------+-----------------------+-------------------+--------------------+
|     Environment     | dpdk_win_llvm_compile | dpdk_msvc_compile | dpdk_meson_compile |
+=====================+=======================+===================+====================+
| Windows Server 2022 | PASS                  | PASS              | SKIPPED            |
+---------------------+-----------------------+-------------------+--------------------+
| FreeBSD 14.1        | SKIPPED               | SKIPPED           | PASS               |
+---------------------+-----------------------+-------------------+--------------------+


Windows Server 2022
	Kernel: 10.0.20348.2031
	Compiler: clang 15.0.7, gcc 14.1.0 (MinGW), and MSVC VS 19.39.33521

FreeBSD 14.1
	Kernel: 14.1-RELEASE-p3
	Compiler: clang 18.1.5

To view detailed results, visit:
https://lab.dpdk.org/results/dashboard/tarballs/30428/

UNH-IOL DPDK Community Lab

To manage your email subscriptions, visit: 
https://lab.dpdk.org/results/dashboard/preferences/subscriptions/


More information about the test-report mailing list