|SUCCESS| [GIT MASTER] 90ee0d676fe5222c3106a41b9583204bb827bdd3
dpdklab at iol.unh.edu
dpdklab at iol.unh.edu
Wed Sep 4 11:31:23 CEST 2024
_Testing PASS_
Branch: 21.11-staging
90ee0d676fe5222c3106a41b9583204bb827bdd3 --> testing pass
Upstream job id: Generic-VM-DPDK-Compile-Meson#29120
Test environment and result as below:
+---------------------+--------------------+----------------------+
| Environment | dpdk_meson_compile | dpdk_mingw64_compile |
+=====================+====================+======================+
| FreeBSD 13.3 | PASS | SKIPPED |
+---------------------+--------------------+----------------------+
| FreeBSD 14.1 | PASS | SKIPPED |
+---------------------+--------------------+----------------------+
| Windows Server 2022 | SKIPPED | PASS |
+---------------------+--------------------+----------------------+
FreeBSD 13.3
Kernel: 13.3-RELEASE-p5
Compiler: clang 17.0.6
FreeBSD 14.1
Kernel: 14.1-RELEASE-p3
Compiler: clang 18.1.5
Windows Server 2022
Kernel: 10.0.20348.2031
Compiler: clang 15.0.7, gcc 14.1.0 (MinGW), and MSVC VS 19.39.33521
To view detailed results, visit:
https://lab.dpdk.org/results/dashboard/tarballs/30439/
UNH-IOL DPDK Community Lab
To manage your email subscriptions, visit:
https://lab.dpdk.org/results/dashboard/preferences/subscriptions/
More information about the test-report
mailing list