|SUCCESS| pw143596-143597 [PATCH] [v4,2/2] dts: add dynamic queue te

dpdklab at iol.unh.edu dpdklab at iol.unh.edu
Wed Sep 4 21:28:32 CEST 2024


Test-Label: iol-compile-amd64-testing
Test-Status: SUCCESS
http://dpdk.org/patch/143597

_Testing PASS_

Submitter: Jeremy Spewock <jspewock at iol.unh.edu>
Date: Wednesday, September 04 2024 15:49:51 
DPDK git baseline: Repo:dpdk
  Branch: master
  CommitID:41dd9a6bc2d9c6e20e139ad713cc9d172572dd43

143596-143597 --> testing pass

Upstream job id: Windows-Compile-DPDK-Native#21897

Test environment and result as below:

+---------------------+-----------------------+--------------------+----------------------+
|     Environment     | dpdk_win_llvm_compile | dpdk_meson_compile | dpdk_mingw64_compile |
+=====================+=======================+====================+======================+
| Windows Server 2022 | PASS                  | SKIPPED            | PASS                 |
+---------------------+-----------------------+--------------------+----------------------+
| FreeBSD 13.3        | SKIPPED               | PASS               | SKIPPED              |
+---------------------+-----------------------+--------------------+----------------------+
| FreeBSD 14.1        | SKIPPED               | PASS               | SKIPPED              |
+---------------------+-----------------------+--------------------+----------------------+


Windows Server 2022
	Kernel: 10.0.20348.2031
	Compiler: clang 15.0.7, gcc 14.1.0 (MinGW), and MSVC VS 19.39.33521

FreeBSD 13.3
	Kernel: 13.3-RELEASE-p5
	Compiler: clang 17.0.6

FreeBSD 14.1
	Kernel: 14.1-RELEASE-p3
	Compiler: clang 18.1.5

To view detailed results, visit:
https://lab.dpdk.org/results/dashboard/patchsets/30906/

UNH-IOL DPDK Community Lab

To manage your email subscriptions, visit: 
https://lab.dpdk.org/results/dashboard/preferences/subscriptions/


More information about the test-report mailing list