|SUCCESS| pw143595 [PATCH] doc: update TAP device features
dpdklab at iol.unh.edu
dpdklab at iol.unh.edu
Wed Sep 4 21:56:50 CEST 2024
Test-Label: iol-compile-amd64-testing
Test-Status: SUCCESS
http://dpdk.org/patch/143595
_Testing PASS_
Submitter: Stephen Hemminger <stephen at networkplumber.org>
Date: Wednesday, September 04 2024 15:42:06
DPDK git baseline: Repo:dpdk
Branch: master
CommitID:5cce3d463a99dbb5e7797faaed6c68df6c2b549a
143595 --> testing pass
Upstream job id: Generic-VM-DPDK-Compile-Meson#29129
Test environment and result as below:
+---------------------+--------------------+-----------------------+----------------------+
| Environment | dpdk_meson_compile | dpdk_win_llvm_compile | dpdk_mingw64_compile |
+=====================+====================+=======================+======================+
| FreeBSD 14.1 | PASS | SKIPPED | SKIPPED |
+---------------------+--------------------+-----------------------+----------------------+
| FreeBSD 13.3 | PASS | SKIPPED | SKIPPED |
+---------------------+--------------------+-----------------------+----------------------+
| Windows Server 2022 | SKIPPED | PASS | PASS |
+---------------------+--------------------+-----------------------+----------------------+
FreeBSD 14.1
Kernel: 14.1-RELEASE-p3
Compiler: clang 18.1.5
FreeBSD 13.3
Kernel: 13.3-RELEASE-p5
Compiler: clang 17.0.6
Windows Server 2022
Kernel: 10.0.20348.2031
Compiler: clang 15.0.7, gcc 14.1.0 (MinGW), and MSVC VS 19.39.33521
To view detailed results, visit:
https://lab.dpdk.org/results/dashboard/patchsets/30905/
UNH-IOL DPDK Community Lab
To manage your email subscriptions, visit:
https://lab.dpdk.org/results/dashboard/preferences/subscriptions/
More information about the test-report
mailing list